BEGIN:VCALENDAR
VERSION:2.0
PRODID:-//NCCD - ECPv6.15.20//NONSGML v1.0//EN
CALSCALE:GREGORIAN
METHOD:PUBLISH
X-WR-CALNAME:NCCD
X-ORIGINAL-URL:https://nccdinfo.com
X-WR-CALDESC:Events for NCCD
REFRESH-INTERVAL;VALUE=DURATION:PT1H
X-Robots-Tag:noindex
X-PUBLISHED-TTL:PT1H
BEGIN:VTIMEZONE
TZID:Asia/Dubai
BEGIN:STANDARD
TZOFFSETFROM:+0400
TZOFFSETTO:+0400
TZNAME:+04
DTSTART:20250101T000000
END:STANDARD
END:VTIMEZONE
BEGIN:VEVENT
DTSTART;VALUE=DATE:20260202
DTEND;VALUE=DATE:20260227
DTSTAMP:20260423T123323
CREATED:20260105T200013Z
LAST-MODIFIED:20260105T200013Z
UID:5705-1769990400-1772150399@nccdinfo.com
SUMMARY:MOP Prayer Chain Month
DESCRIPTION:MOP Prayer Chain Month is a month set apart for intentional prayer\, where our young people stand together in faith—each praying in their own time\, yet united in one purpose. As every prayer is offered\, a spiritual chain is formed\, covering our generation\, our church\, and our future. This is a call to consistency\, devotion\, and trust\, believing that God honors prayers lifted in unity and obedience.
URL:https://nccdinfo.com/event/mop-prayer-chain-month/
CATEGORIES:NCCD MOP
END:VEVENT
BEGIN:VEVENT
DTSTART;VALUE=DATE:20260227
DTEND;VALUE=DATE:20260301
DTSTAMP:20260423T123323
CREATED:20260105T201119Z
LAST-MODIFIED:20260105T201119Z
UID:5707-1772150400-1772323199@nccdinfo.com
SUMMARY:NYA West Coast North - Modesto\, CA
DESCRIPTION:NYA West Coast North – Modesto\, CA is a powerful gathering where young people from across the West Coast come together as one body in Christ from February 27–28. In unity\, we congregate to worship\, pray\, and be strengthened by the Word of God. This advance is a time of renewal\, connection\, and spiritual empowerment—where faith is ignited\, purpose is awakened\, and lives are transformed.
URL:https://nccdinfo.com/event/nya-west-coast-north-modesto-ca/
CATEGORIES:National Event
END:VEVENT
END:VCALENDAR