BEGIN:VCALENDAR
VERSION:2.0
PRODID:-//NCCD - ECPv6.15.20//NONSGML v1.0//EN
CALSCALE:GREGORIAN
METHOD:PUBLISH
X-ORIGINAL-URL:https://nccdinfo.com
X-WR-CALDESC:Events for NCCD
REFRESH-INTERVAL;VALUE=DURATION:PT1H
X-Robots-Tag:noindex
X-PUBLISHED-TTL:PT1H
BEGIN:VTIMEZONE
TZID:Asia/Dubai
BEGIN:STANDARD
TZOFFSETFROM:+0400
TZOFFSETTO:+0400
TZNAME:+04
DTSTART:20240101T000000
END:STANDARD
END:VTIMEZONE
BEGIN:VEVENT
DTSTART;VALUE=DATE:20250807
DTEND;VALUE=DATE:20250810
DTSTAMP:20260424T073313
CREATED:20250103T051633Z
LAST-MODIFIED:20250427T001352Z
UID:5348-1754524800-1754783999@nccdinfo.com
SUMMARY:NCCD Juniors Camp
DESCRIPTION:NCCD Junior Camp 2025\nDates: August 7–9\, 2025\nLocation: Old Oak Ranch\, Sonora\, CA \nJoin us for an unforgettable experience at NCCD Junior Camp 2025! \nThis year’s theme\, “For Such a Time as This\,” reminds us that God has called this generation for a special purpose. We are excited to welcome Guest Speaker Dr. Marty Amin as we gather for three powerful days of worship\, learning\, and fun. \nRegistration Details:\n· Camp Cost: $200 (until July 12)\n· Late Registration (after July 12): $250\n· Deposit: $50\n· Optional T-Shirt Add-On: $20\n· Registration Deadline: July 12\, 2025 \nImportant: All required documents (waiver and camp rules) must be uploaded to complete your registration. \nLocation:\nOld Oak Ranch\n15250 Old Oak Ranch Rd\nSonora\, CA 95370 \nWhether you are coming as a Camper (ages 9–13) or Junior Staff (18+)\, prepare for a life-changing time together! Expect powerful services\, new friendships\, team activities\, and moments that will strengthen your faith. \nRegister early to save your spot! \nREGISTER HERE! https://north-central-california-district-428228.churchcenter.com/registrations/events/2843034
URL:https://nccdinfo.com/event/nccd-juniors-camp/
CATEGORIES:Juniors MOP
END:VEVENT
BEGIN:VEVENT
DTSTART;TZID=Asia/Dubai:20250811T190000
DTEND;TZID=Asia/Dubai:20250811T200000
DTSTAMP:20260424T073313
CREATED:20250103T051916Z
LAST-MODIFIED:20250103T052046Z
UID:5352-1754938800-1754942400@nccdinfo.com
SUMMARY:IABC Orientation
DESCRIPTION:IABC Orientation 2025 \n📚 Your First Step into a Transformative Journey 📚 \n📅 Date: August 11\, 2025 \n📍 Location: Clovis Apostolic Church \nCalling all new and returning students! Join us for the annual IABC Orientation\, where you’ll get everything you need to start the academic year at our district Bible college. \n✨ What You’ll Learn: \n•The upcoming academic schedule \n•Tuition costs and payment plans \n•College policies and expectations \n•Resources to help you succeed \nThis is your chance to connect with faculty\, meet fellow students\, and prepare for a year of growth and discovery in God’s Word. Don’t miss this important kickoff to your Bible college journey! 🙌✨
URL:https://nccdinfo.com/event/iabc-orientation/
LOCATION:Clovis Apostolic Church\, 410 Cherry Lane\, Clovis\, CA\, 93612\, United States
CATEGORIES:NCCD IABC
END:VEVENT
BEGIN:VEVENT
DTSTART;VALUE=DATE:20250815
DTEND;VALUE=DATE:20250817
DTSTAMP:20260424T073313
CREATED:20250103T052121Z
LAST-MODIFIED:20250103T053813Z
UID:5360-1755216000-1755388799@nccdinfo.com
SUMMARY:Men of Impact
DESCRIPTION:
URL:https://nccdinfo.com/event/men-of-impact/
CATEGORIES:National Event
END:VEVENT
BEGIN:VEVENT
DTSTART;VALUE=DATE:20250822
DTEND;VALUE=DATE:20250823
DTSTAMP:20260424T073313
CREATED:20250110T030837Z
LAST-MODIFIED:20250110T030837Z
UID:5579-1755820800-1755907199@nccdinfo.com
SUMMARY:Widow's Oil Offering Deadline
DESCRIPTION:🌸 Attention Local Ladies Leaders: Widow’s Oil Offering Deadline 🌟\nWe encourage all of our NCCD churches to participate in this year’s Widow’s Oil fundraising program by submitting your church’s offering by 📅 August 22\, 2025.\n\n💌 To submit your offering:\n•Checks payable to: Apostolic Assembly\n•Mail to: Cynthia Guzman\n\n🌐 What is Widow’s Oil?\nThis program provides vital social assistance to widows within our church organization\, embodying Christ’s love and care for those in need.\n\n❓ For questions or assistance\, please contact:\n• Cynthia Guzman – NCCD Daughters of the King Coordinator 💼\n\n🙏 Your contributions make a difference! Thank you for your support in uplifting and empowering the widows in our community. 💜✨\n\n——\n\n🌸 Atención Líderes Locales de Damas: Fecha Límite para la Ofrenda del Programa “Aceite de la Viuda” 🌟\nAnimamos a todas nuestras iglesias del NCCD a participar en el programa de recaudación de fondos “Aceite de la Viuda\,” enviando la ofrenda de su iglesia antes del 📅 22 de agosto de 2025.\n\n💌 Para enviar su ofrenda:\n•Cheques a nombre de: Asamblea Apostólica\n•Enviar por correo a: Cynthia Guzmán\n\n🌐 ¿Qué es el programa “Aceite de la Viuda”?\nEste programa provee asistencia social esencial a las viudas dentro de nuestra organización\, demostrando el amor y cuidado de Cristo por aquellos en necesidad.\n\n❓ Para preguntas o asistencia\, comuníquese con:\n• Cynthia Guzmán – Coordinadora de Hijas del Rey NCCD 💼\n\n🙏 ¡Sus contribuciones hacen la diferencia! Gracias por su apoyo en levantar y empoderar a las viudas de nuestra comunidad. 💜✨
URL:https://nccdinfo.com/event/widows-oil-offering-deadline/
CATEGORIES:Daughters of the King
END:VEVENT
END:VCALENDAR