BEGIN:VCALENDAR
VERSION:2.0
PRODID:-//NCCD - ECPv6.15.20//NONSGML v1.0//EN
CALSCALE:GREGORIAN
METHOD:PUBLISH
X-ORIGINAL-URL:https://nccdinfo.com
X-WR-CALDESC:Events for NCCD
REFRESH-INTERVAL;VALUE=DURATION:PT1H
X-Robots-Tag:noindex
X-PUBLISHED-TTL:PT1H
BEGIN:VTIMEZONE
TZID:Asia/Dubai
BEGIN:STANDARD
TZOFFSETFROM:+0400
TZOFFSETTO:+0400
TZNAME:+04
DTSTART:20240101T000000
END:STANDARD
END:VTIMEZONE
BEGIN:VEVENT
DTSTART;VALUE=DATE:20250510
DTEND;VALUE=DATE:20250511
DTSTAMP:20260424T110607
CREATED:20250103T050057Z
LAST-MODIFIED:20250319T013822Z
UID:5322-1746835200-1746921599@nccdinfo.com
SUMMARY:NCCD Child Abuse Seminar
DESCRIPTION:Child Abuse Seminar – Awareness\, Prevention\, and Action \nJoin us for our annual Child Abuse Seminar aimed at raising awareness\, educating our community\, and equipping individuals with the tools to recognize\, prevent\, and respond to child abuse. \nThis seminar is designed for pastors\, ministers\, church leaders\, parents\, and anyone who works with children in a church setting. \n📅 Date: Saturday\, May 10th\n🕘 Time: 9:00 AM – 1:00 PM\n📍 Location: Merced New Life\, 2427 E Santa Fe Ave Merced\, CA 95340\n💲 Cost: $15 (Registration Required) \nThis seminar will feature expert speakers\, insightful discussions\, and practical strategies to help protect children and create safer environments in our churches and ministry programs. Attendees will gain valuable knowledge on: \n✅ Recognizing the signs of abuse\n✅ Understanding the impact on children and families\n✅ Legal and ethical responsibilities\n✅ How to respond effectively and report concerns\n✅ Building a culture of safety in our communities \n🔹 Register Online Today! 🔹 \nSpace is limited\, so secure your spot now! Together\, we can take a stand against child abuse and work towards a safer future for every child. \nONLINE REGISTRATION
URL:https://nccdinfo.com/event/nccd-child-abuse-seminar/
LOCATION:Merced New Life\, 2427 E Santa Fe Ave\, Merced\, CA\, 95340\, United States
CATEGORIES:District
ATTACH;FMTTYPE=image/png:https://nccdinfo.com/wp-content/uploads/2025/01/child-abuse-2025-graphic.png
END:VEVENT
BEGIN:VEVENT
DTSTART;VALUE=DATE:20250511
DTEND;VALUE=DATE:20250512
DTSTAMP:20260424T110607
CREATED:20250103T050139Z
LAST-MODIFIED:20250103T050139Z
UID:5325-1746921600-1747007999@nccdinfo.com
SUMMARY:Mother's Day
DESCRIPTION:
URL:https://nccdinfo.com/event/mothers-day/
END:VEVENT
BEGIN:VEVENT
DTSTART;VALUE=DATE:20250515
DTEND;VALUE=DATE:20250518
DTSTAMP:20260424T110607
CREATED:20250103T050331Z
LAST-MODIFIED:20250422T040911Z
UID:5327-1747267200-1747526399@nccdinfo.com
SUMMARY:NCCD Daughters of the King Ladies Retreat
DESCRIPTION:Resilient Women Retreat 2025 \n📣 Praise the Lord\, Daughters of the King! \nWe are thrilled to invite you to our Resilient Women Retreat 2025\, a powerful and uplifting weekend designed to strengthen\, refresh\, and equip women in their faith journey. This retreat is a time for worship\, fellowship\, and personal renewal as we come together to seek God’s presence and encouragement. \n🌸 DATE: May 15-17\, 2025\n📍 LOCATION: DoubleTree by Hilton Hotel Fresno Convention Center \n✨ What to Expect: \n✅ Spirit-filled worship and dynamic speakers\n✅ Empowering sessions focused on resilience and faith\n✅ Fellowship with like-minded women\n✅ A time of renewal\, restoration\, and encouragement \n💲 REGISTRATION DETAILS: \n•Early Registration: $160 (Deposit of $50 due by March 30th)\n• After March 30th: $180\n👕 Retreat T-Shirt: $20 (Available in all sizes) \n🚨 IMPORTANT: \n•No children of any age can be accommodated at this event.\n•Hotel reservations are separate from registration. Use this LINK. \n📌 REGISTER ONLINE TODAY! \nSecure your spot and get ready for a transformative weekend. \nONLINE RETREAT REGISTRATION
URL:https://nccdinfo.com/event/nccd-daughters-of-the-king-ladies-retreat/
CATEGORIES:Daughters of the King
ATTACH;FMTTYPE=image/png:https://nccdinfo.com/wp-content/uploads/2025/01/Resilient-Women-Retreat-Slide.png
END:VEVENT
BEGIN:VEVENT
DTSTART;VALUE=DATE:20250526
DTEND;VALUE=DATE:20250527
DTSTAMP:20260424T110607
CREATED:20250103T050403Z
LAST-MODIFIED:20250103T050403Z
UID:5329-1748217600-1748303999@nccdinfo.com
SUMMARY:Memorial Day
DESCRIPTION:
URL:https://nccdinfo.com/event/memorial-day/
END:VEVENT
BEGIN:VEVENT
DTSTART;VALUE=DATE:20250531
DTEND;VALUE=DATE:20250601
DTSTAMP:20260424T110607
CREATED:20250103T050603Z
LAST-MODIFIED:20250525T031558Z
UID:5333-1748649600-1748735999@nccdinfo.com
SUMMARY:NCCD MOP Reach the Valley - Madera
DESCRIPTION:🌄 Reach the Valley – Madera Outreach Day\nPresented by NCCD MOP \n📅 Date: Saturday\, May 31\, 2025\n🕖 Time: 7:00 AM – 1:00 PM\n📍 Location: Outreach teams will meet at 7:00 AM (Exact location TBD) \nJoin us as we Reach the Valley with the love and hope of Jesus! The North Central California District Men of Promise (NCCD MOP) is organizing a one-day outreach in Madera\, CA\, and we’re calling on 50–75 young people\, youth leaders\, ministers\, and pastors to be a part of this impactful mission. \nWe’ll begin with a brief orientation and check-in at 7:00 AM before heading out to serve various locations across the city\, including: \n· Madera Grace\n· Madera Rescue Mission\n· Madera Courthouse Park \nThis is a hands-on outreach opportunity—transportation may be needed\, so please plan accordingly. \n📋 Sign-Up Info: \nAll participants must sign up before Wednesday\, May 28.\nA Pre-Orientation session will be held on Wednesday\, May 28 at 6:00 PM to review logistics and expectations. \n🧭 Team Leaders: \nIf you’re 18 or older and interested in leading a team\, please email us at nccdmop@gmail.com.\nLeaders must have completed:\n· A Live Scan background check through the Apostolic Assembly\n· Annual child abuse prevention training \nLet’s come together to make a difference in the Valley—one soul\, one prayer\, one act of service at a time. \nSing Up Here
URL:https://nccdinfo.com/event/nccd-mop-serve-the-city/
CATEGORIES:NCCD MOP
ATTACH;FMTTYPE=image/png:https://nccdinfo.com/wp-content/uploads/2025/01/Reach-the-Valley-25-Google-Form.png
END:VEVENT
END:VCALENDAR