BEGIN:VCALENDAR
VERSION:2.0
PRODID:-//NCCD - ECPv6.15.20//NONSGML v1.0//EN
CALSCALE:GREGORIAN
METHOD:PUBLISH
X-WR-CALNAME:NCCD
X-ORIGINAL-URL:https://nccdinfo.com
X-WR-CALDESC:Events for NCCD
REFRESH-INTERVAL;VALUE=DURATION:PT1H
X-Robots-Tag:noindex
X-PUBLISHED-TTL:PT1H
BEGIN:VTIMEZONE
TZID:Asia/Dubai
BEGIN:STANDARD
TZOFFSETFROM:+0400
TZOFFSETTO:+0400
TZNAME:+04
DTSTART:20240101T000000
END:STANDARD
END:VTIMEZONE
BEGIN:VEVENT
DTSTART;VALUE=DATE:20250307
DTEND;VALUE=DATE:20250309
DTSTAMP:20260424T151202
CREATED:20250103T043441Z
LAST-MODIFIED:20250103T043441Z
UID:5293-1741305600-1741478399@nccdinfo.com
SUMMARY:NYA West Coast | Modesto
DESCRIPTION:
URL:https://nccdinfo.com/event/nya-west-coast-modesto/
CATEGORIES:National Event
END:VEVENT
BEGIN:VEVENT
DTSTART;VALUE=DATE:20250228
DTEND;VALUE=DATE:20250302
DTSTAMP:20260424T151202
CREATED:20250103T044011Z
LAST-MODIFIED:20250224T190058Z
UID:5301-1740700800-1740873599@nccdinfo.com
SUMMARY:Regional Strategy of Jesus Seminar
DESCRIPTION:2025 Strategy of Jesus Regional Seminar\nJoin us for the 2025 Strategy of Jesus Regional Seminar\, an impactful event hosted by the Apostolic Assembly of the Faith in Christ Jesus\, designed to inspire and equip attendees with the tools to fulfill God’s purpose in their lives and ministries. \nEvent Details:\nDates: February 28 – March 1\, 2025 \nLocation: Merced\, California \nSchedule: \n• February 28: 6:00 PM – 9:00 PM \n• March 1: 9:00 AM – 3:00 PM \nRegistration Now Open! \nReserve your spot today to be part of this transformative experience. \nREGISTER HERE \nHotel Accommodations\nSpecial rates are available for seminar attendees. Make your reservation soon as availability is limited: \nQuality Inn: $104 + tax (Code: Apostolic Assembly) \nAddress: 730 Motel Dr\, Merced\, CA 95341 \nPhone: (209) 383-0333 \nHampton Inn: $110 + tax (No Code Needed) \nAddress: 225 S Parsons Ave\, Merced\, CA 95340 \nPhone: (209) 386-1210 \nMerced Courtyard Marriott: $149 + tax (Use QR Code) \nAddress: 750 Motel Dr\, Merced\, CA 95341 \nBook Online: Click Here \nHoliday Inn Express: $149 + tax (Code: Apostolic Assembly) \nAddress: 151 S Parsons Ave\, Merced\, CA 95341 \nPhone: (209) 384-3700 \nBook Online: Click Here \nKids & Junior Seminar\nBring your children along! We’re offering specialized programs for ages 4–13 at a minimal cost of $10 per child. \n \nDates and Times: \n• February 28: 6:00 PM – 9:00 PM \n• March 1: 9:00 AM – 3:00 PM \nDetails: \n• Potty-trained children aged 3.5 years and older are welcome. \n• Parents must also be registered for the main seminar. \n• Limited capacity—register early here! \nTake advantage of this opportunity to grow spiritually\, connect with fellow believers\, and be inspired to carry out the Lord’s work in 2025. We look forward to seeing you there!
URL:https://nccdinfo.com/event/regional-strategy-of-jesus-seminar/
LOCATION:Merced New Life\, 2427 E Santa Fe Ave\, Merced\, CA\, 95340\, United States
CATEGORIES:National Event
ATTACH;FMTTYPE=image/png:https://nccdinfo.com/wp-content/uploads/2025/01/11.png
END:VEVENT
BEGIN:VEVENT
DTSTART;VALUE=DATE:20250221
DTEND;VALUE=DATE:20250222
DTSTAMP:20260424T151202
CREATED:20250102T020639Z
LAST-MODIFIED:20250113T035537Z
UID:5172-1740096000-1740182399@nccdinfo.com
SUMMARY:NCCD Juniors Kick-Off Service
DESCRIPTION:
URL:https://nccdinfo.com/event/nccd-juniors-kick-off/
CATEGORIES:Juniors MOP
ATTACH;FMTTYPE=image/png:https://nccdinfo.com/wp-content/uploads/2025/01/10.png
END:VEVENT
BEGIN:VEVENT
DTSTART;VALUE=DATE:20250204
DTEND;VALUE=DATE:20250205
DTSTAMP:20260424T151202
CREATED:20250103T043604Z
LAST-MODIFIED:20250117T193544Z
UID:5295-1738627200-1738713599@nccdinfo.com
SUMMARY:General Treasures Workshop
DESCRIPTION:
URL:https://nccdinfo.com/event/general-treasures-workshop/
CATEGORIES:National Event
ATTACH;FMTTYPE=image/jpeg:https://nccdinfo.com/wp-content/uploads/2025/01/2.jpg
END:VEVENT
BEGIN:VEVENT
DTSTART;VALUE=DATE:20250201
DTEND;VALUE=DATE:20250301
DTSTAMP:20260424T151202
CREATED:20250103T043409Z
LAST-MODIFIED:20250203T044039Z
UID:5292-1738368000-1740787199@nccdinfo.com
SUMMARY:NCCD Messengers of Peace | Fasting & Prayer Month
DESCRIPTION:NCCD Messengers of Peace: February Month of Prayer & Fasting \nThe North Central California District (NCCD) Messengers of Peace invite all youth and young adults to join us for a dedicated Month of Prayer & Fasting throughout February. Each church in the district will take turns leading designated days of fasting and intercession\, covering our generation\, communities\, and ministries in prayer. \n🔹 District-Wide Zoom Prayer – Every Monday at 5:30 AM\, we will come together as one body in collective prayer via Zoom\, uniting our voices to seek God’s presence and guidance. \n🔗 Join the Zoom Prayer Here 🔗 \nLet’s dedicate this month to drawing closer to God\, interceding for revival\, and strengthening our faith as a generation of Messengers of Peace! Check with your local MOP leadership for your church’s assigned day.
URL:https://nccdinfo.com/event/nccd-messengers-of-peace-fasting-prayer-month/
CATEGORIES:NCCD MOP
ATTACH;FMTTYPE=image/jpeg:https://nccdinfo.com/wp-content/uploads/2025/01/1.jpg
END:VEVENT
BEGIN:VEVENT
DTSTART;VALUE=DATE:20250123
DTEND;VALUE=DATE:20250126
DTSTAMP:20260424T151202
CREATED:20250103T041648Z
LAST-MODIFIED:20250103T044736Z
UID:5287-1737590400-1737849599@nccdinfo.com
SUMMARY:National Ladies Leadership Summit 2025
DESCRIPTION:National Ladies Leadership Summit 2025 \n🌟 Empowering Women. Inspiring Leadership. Transforming Lives. 🌟 \n📅 Dates: January 23–25\, 2025 \n📍 Location: — \nJoin us for the National Ladies Leadership Summit 2025\, a gathering of visionary women dedicated to leading with purpose and passion. This exclusive event is designed for all district leaders of the Women’s Federation\, offering a time to connect\, collaborate\, and grow in leadership excellence. \n✨ What to Expect: \n• Inspiring keynote sessions \n• Practical leadership workshops \n• Opportunities to network and share strategies \n• A renewed vision for serving your district \nTogether\, let’s embrace the call to lead\, uplift others\, and make a lasting impact in our communities. Mark your calendar and get ready for an unforgettable summit! 💼✨
URL:https://nccdinfo.com/event/national-ladies-leadership-summit-2025/
CATEGORIES:National Event
END:VEVENT
BEGIN:VEVENT
DTSTART;TZID=Asia/Dubai:20250104T100000
DTEND;TZID=Asia/Dubai:20250104T150000
DTSTAMP:20260424T151202
CREATED:20250102T005134Z
LAST-MODIFIED:20250102T010543Z
UID:5144-1735984800-1736002800@nccdinfo.com
SUMMARY:District Kick-Off Service
DESCRIPTION:Get Ready for an Inspiring Start to 2025! \n🎉 2025 District Kick-Off Service 🎉 \nKick off the new year with purpose and passion! Join us for a day of connection\, vision\, and spiritual renewal as we unite to launch our district’s 2025 plans. \n🕙 10:00 AM – Department Breakouts \nGather with your group for empowering sessions tailored for Men\, Ladies\, Youth\, and Juniors. Build momentum with fresh ideas and shared goals! \n⏰ 1:30 PM – General Kick-Off Service \nExperience a powerful service that will ignite your faith and set the tone for an incredible year. Don’t miss the worship\, the Word\, and the excitement as we come together as one! \nMark your calendar and be part of this unforgettable start to 2025! 🙌✨
URL:https://nccdinfo.com/event/district-kick-off-service/
LOCATION:Merced New Life\, 2427 E Santa Fe Ave\, Merced\, CA\, 95340\, United States
END:VEVENT
END:VCALENDAR