BEGIN:VCALENDAR
VERSION:2.0
PRODID:-//NCCD - ECPv6.15.20//NONSGML v1.0//EN
CALSCALE:GREGORIAN
METHOD:PUBLISH
X-ORIGINAL-URL:https://nccdinfo.com
X-WR-CALDESC:Events for NCCD
REFRESH-INTERVAL;VALUE=DURATION:PT1H
X-Robots-Tag:noindex
X-PUBLISHED-TTL:PT1H
BEGIN:VTIMEZONE
TZID:Asia/Dubai
BEGIN:STANDARD
TZOFFSETFROM:+0400
TZOFFSETTO:+0400
TZNAME:+04
DTSTART:20250101T000000
END:STANDARD
END:VTIMEZONE
BEGIN:VEVENT
DTSTART;VALUE=DATE:20260910
DTEND;VALUE=DATE:20260913
DTSTAMP:20260423T215510
CREATED:20260101T214726Z
LAST-MODIFIED:20260309T021552Z
UID:5702-1788998400-1789257599@nccdinfo.com
SUMMARY:MOV Camp
DESCRIPTION:Join us for the North Central California District Men of Valor Camp\, “Off Hand & Heart\,” inspired by Psalm 24. \nThis year’s camp is a call for men to pursue purity\, integrity\, and wholehearted devotion to God. Psalm 24 reminds us that those who seek the presence of the Lord must come with clean hands and a pure heart. During this powerful weekend in the mountains\, we will gather for dynamic worship\, impactful preaching\, and meaningful fellowship with men from across our district. \nSet in the beautiful surroundings of Timber Mountain Campground\, this camp will be a time to reconnect with God\, strengthen your faith\, and build lasting brotherhood with other men who desire to walk faithfully with the Lord. \nCome ready to seek God\, be challenged\, and return home renewed. \nEspañol \nÚnase a nosotros en el Campamento de Hombres de Valor del Distrito Norte Central de California\, “Manos y Corazón\,” inspirado en el Salmo 24. \nEste campamento es un llamado para que los hombres busquen pureza\, integridad y una devoción completa a Dios. El Salmo 24 nos recuerda que aquellos que desean entrar en la presencia del Señor deben hacerlo con manos limpias y un corazón puro. Durante este poderoso fin de semana en las montañas\, nos reuniremos para tener adoración dinámica\, predicación ungida y compañerismo con hombres de todo nuestro distrito. \nEn el hermoso entorno del campamento Timber Mountain\, este evento será un tiempo para reconectarse con Dios\, fortalecer la fe y formar hermandades duraderas con otros hombres que desean caminar fielmente con el Señor. \nVen preparado para buscar a Dios\, ser desafiado y regresar renovado. \nEvent Details \nDATE / FECHA: September 10–12\, 2026 \nLOCATION / LUGAR: \nTimber Mountain Campground\n48478 Mill Canyon Rd\nOakhurst\, CA 93644 \nCOST / COSTO: $250 \nEarly Bird / Especial: \n$225 with $50 deposit before March 31\nDepósito de $50 para asegurar precio de $225 antes del 31 de marzo \nDeposit / Depósito: $50 \nShirt / Camisa: $25 \nNote / Nota: \nDeposits are non-refundable but transferable. \nDepósitos no son reembolsables\, pero son transferibles.
URL:https://nccdinfo.com/event/mov-camp/
CATEGORIES:Men of Valor
END:VEVENT
BEGIN:VEVENT
DTSTART;VALUE=DATE:20260911
DTEND;VALUE=DATE:20260913
DTSTAMP:20260423T215510
CREATED:20260101T214511Z
LAST-MODIFIED:20260101T214511Z
UID:5700-1789084800-1789257599@nccdinfo.com
SUMMARY:Edify Together
DESCRIPTION:Edify Together \nEdify Together is a district-wide event designed to strengthen and equip men\, ladies\, and young people through practical resources and engaging workshops. This gathering is focused on building up individuals and empowering churches by providing tools that encourage growth\, unity\, and effective ministry. Come be encouraged\, equipped\, and edified as we grow stronger together.
URL:https://nccdinfo.com/event/edify-together-2/
CATEGORIES:District
END:VEVENT
BEGIN:VEVENT
DTSTART;VALUE=DATE:20261211
DTEND;VALUE=DATE:20261213
DTSTAMP:20260423T215510
CREATED:20260107T002050Z
LAST-MODIFIED:20260107T002050Z
UID:5731-1796947200-1797119999@nccdinfo.com
SUMMARY:NCCD School of Planters
DESCRIPTION:The NCCD School of Planters is a district-wide training event open to leaders\, ministry workers\, and individuals interested in learning more about church planting. This training provides practical skills\, effective strategies\, and foundational lessons to equip participants with the knowledge and insight needed to support and engage in church planting efforts.
URL:https://nccdinfo.com/event/nccd-school-of-planters/
CATEGORIES:District
END:VEVENT
END:VCALENDAR