BEGIN:VCALENDAR
VERSION:2.0
PRODID:-//NCCD - ECPv6.15.20//NONSGML v1.0//EN
CALSCALE:GREGORIAN
METHOD:PUBLISH
X-WR-CALNAME:NCCD
X-ORIGINAL-URL:https://nccdinfo.com
X-WR-CALDESC:Events for NCCD
REFRESH-INTERVAL;VALUE=DURATION:PT1H
X-Robots-Tag:noindex
X-PUBLISHED-TTL:PT1H
BEGIN:VTIMEZONE
TZID:Asia/Dubai
BEGIN:STANDARD
TZOFFSETFROM:+0400
TZOFFSETTO:+0400
TZNAME:+04
DTSTART:20250101T000000
END:STANDARD
END:VTIMEZONE
BEGIN:VEVENT
DTSTART;VALUE=DATE:20261211
DTEND;VALUE=DATE:20261213
DTSTAMP:20260423T042241
CREATED:20260107T002050Z
LAST-MODIFIED:20260107T002050Z
UID:5731-1796947200-1797119999@nccdinfo.com
SUMMARY:NCCD School of Planters
DESCRIPTION:The NCCD School of Planters is a district-wide training event open to leaders\, ministry workers\, and individuals interested in learning more about church planting. This training provides practical skills\, effective strategies\, and foundational lessons to equip participants with the knowledge and insight needed to support and engage in church planting efforts.
URL:https://nccdinfo.com/event/nccd-school-of-planters/
CATEGORIES:District
END:VEVENT
END:VCALENDAR