BEGIN:VCALENDAR
VERSION:2.0
PRODID:-//NCCD - ECPv6.15.20//NONSGML v1.0//EN
CALSCALE:GREGORIAN
METHOD:PUBLISH
X-WR-CALNAME:NCCD
X-ORIGINAL-URL:https://nccdinfo.com
X-WR-CALDESC:Events for NCCD
REFRESH-INTERVAL;VALUE=DURATION:PT1H
X-Robots-Tag:noindex
X-PUBLISHED-TTL:PT1H
BEGIN:VTIMEZONE
TZID:Asia/Dubai
BEGIN:STANDARD
TZOFFSETFROM:+0400
TZOFFSETTO:+0400
TZNAME:+04
DTSTART:20240101T000000
END:STANDARD
END:VTIMEZONE
BEGIN:VEVENT
DTSTART;VALUE=DATE:20260117
DTEND;VALUE=DATE:20260118
DTSTAMP:20260423T090607
CREATED:20260101T211443Z
LAST-MODIFIED:20260101T211443Z
UID:5690-1768608000-1768694399@nccdinfo.com
SUMMARY:NCCD District Kick-Off Service
DESCRIPTION:
URL:https://nccdinfo.com/event/nccd-district-kick-off-service/
LOCATION:Merced New Life\, 2427 E Santa Fe Ave\, Merced\, CA\, 95340\, United States
CATEGORIES:District
END:VEVENT
BEGIN:VEVENT
DTSTART;VALUE=DATE:20251125
DTEND;VALUE=DATE:20251130
DTSTAMP:20260423T090607
CREATED:20250103T054904Z
LAST-MODIFIED:20250103T054904Z
UID:5382-1764028800-1764460799@nccdinfo.com
SUMMARY:Apostolic Assembly National Centennial Convention
DESCRIPTION:Apostolic Assembly National Centennial Convention \n🎉 100 Years of Faith\, Unity\, and Revival 🎉 \n📅 Dates: November 25–29\, 2025 \n📍 Location: Anaheim Convention Center \nMake plans to join us for this year’s historic National Convention! \nWe’re celebrating 100 years of God’s faithfulness at our Centennial Convention\, and you’re invited to be part of this unforgettable milestone. \n✨ What’s in Store? \n•Inspiring services filled with dynamic worship and powerful preaching \n•Sessions and programs for all ages\, from children to adults \n•Activities and events to connect\, celebrate\, and grow as a community \nBring your family\, invite your friends\, and be part of this extraordinary gathering as we reflect on a century of impact and look forward to what God has in store for the future. \nLet’s celebrate together in Anaheim\, CA—don’t miss this once-in-a-lifetime event! 🙌🎉
URL:https://nccdinfo.com/event/apostolic-assembly-national-centennial-convention/
LOCATION:Anaheim Convention Center\, 800 W Katella Ave\, Anaheim\, CA\, 92802\, United States
CATEGORIES:National Event
END:VEVENT
BEGIN:VEVENT
DTSTART;TZID=Asia/Dubai:20251108T090000
DTEND;TZID=Asia/Dubai:20251108T160000
DTSTAMP:20260423T090607
CREATED:20250103T054228Z
LAST-MODIFIED:20250103T054228Z
UID:5376-1762592400-1762617600@nccdinfo.com
SUMMARY:IABC Intensive Course
DESCRIPTION:NCCD IABC Intensive Course \n📖 Deepen Your Knowledge. Strengthen Your Faith. 📖 \n📅 Date: November 8\, 2025 \n📍 Location: Clovis Apostolic Church \nCalling all Bible College students! Don’t miss this opportunity to join us for an Intensive Course designed to equip and empower you for greater impact in ministry and study. \n✨ What to Expect: \n•In-depth teaching \n•Interactive sessions with experienced instructors \n•Practical insights to enhance your biblical understanding \nMark your calendar\, bring your notebook\, and come ready to dive deep! 📚✨
URL:https://nccdinfo.com/event/iabc-intensive-course/
LOCATION:Clovis Apostolic Church\, 410 Cherry Lane\, Clovis\, CA\, 93612\, United States
CATEGORIES:NCCD IABC
END:VEVENT
BEGIN:VEVENT
DTSTART;VALUE=DATE:20251025
DTEND;VALUE=DATE:20251026
DTSTAMP:20260423T090607
CREATED:20250107T045722Z
LAST-MODIFIED:20250107T050247Z
UID:5559-1761350400-1761436799@nccdinfo.com
SUMMARY:SEEDS Offering Deadline
DESCRIPTION:🌱 Attention Local Youth Leaders: SEEDS Offering Deadline 🌟\nWe encourage all of our NCCD churches to participate in this year’s SEEDS project by submitting your church’s SEEDS offering by 📅 October 25. \n💻 To submit your offering and learn more about the mission and impact of SEEDS\, visit the National MOP SEEDS web page. \n❓ For questions or assistance\, please contact:\n• Joel Orellana – NCCD MOP President 📞\n• Elias Ayala II – NCCD MOP Treasurer 💼 \n🙏 Your contributions are vital to advancing the Kingdom and empowering the next generation. Thank you for your faithful support! 💚✨
URL:https://nccdinfo.com/event/seeds-offering-deadline/
CATEGORIES:NCCD MOP
ATTACH;FMTTYPE=image/png:https://nccdinfo.com/wp-content/uploads/2025/01/Screenshot-2025-01-06-at-8.58.30 PM-e1736226033385.png
END:VEVENT
BEGIN:VEVENT
DTSTART;VALUE=DATE:20251025
DTEND;VALUE=DATE:20251026
DTSTAMP:20260423T090607
CREATED:20250103T054236Z
LAST-MODIFIED:20250915T031135Z
UID:5378-1761350400-1761436799@nccdinfo.com
SUMMARY:NCCD Unite For Missions
DESCRIPTION:United for Missions 2025 / Unidos para Misiones 2025\nDate / Fecha: Saturday\, October 25\, 2025 / Sábado 25 de octubre de 2025\nLocation / Lugar: Merced New Life – Merced\, CA \n\nENGLISH\nThe North Central California District invites you to join us for United for Missions 2025—a district-wide celebration bringing together Men of Valor (MOV)\, Daughters of the King (DOK)\, and Messengers of Peace (MOP). \nThis special gathering is an opportunity for our three departments to unite and rejoice over what God has done through our collective generosity. We’ll highlight and celebrate the offerings collected for our three mission-oriented funding programs: \n🇺🇸 Reach America\n🌱 Seeds\n💙 Flor Azul \nTogether\, these programs help us extend the gospel\, plant churches\, and support missions both locally and globally. United for Missions is a time to worship\, give thanks\, and cast fresh vision for the future of missions in our district. \n📌 Mark your calendar for October 25\, 2025\, at Merced New Life and plan to join us as we celebrate what God is doing through our united efforts for missions. \n\nESPAÑOL\nEl Distrito Norte de California Central le invita a Unidos para Misiones 2025—una celebración distrital que reúne a Hombres de Valor (MOV)\, Hijas del Rey (DOK) y Mensajeros de Paz (MOP). \nEste evento especial es una oportunidad para que nuestros tres departamentos se unan y se regocijen por lo que Dios ha hecho a través de nuestra generosidad colectiva. Resaltaremos y celebraremos las ofrendas recolectadas para nuestros tres programas de financiamiento orientados a las misiones: \n🇺🇸 Alcanzando América\n🌱 Semillas (Seeds)\n💙 Flor Azul \nJuntos\, estos programas nos ayudan a extender el evangelio\, plantar iglesias y apoyar las misiones tanto local como globalmente. Unidos para Misiones será un tiempo de adoración\, gratitud y visión fresca para el futuro de las misiones en nuestro distrito. \n📌 Aparte la fecha para el 25 de octubre de 2025 en Merced New Life y únase a nosotros para celebrar lo que Dios está haciendo a través de nuestros esfuerzos unidos para las misiones.
URL:https://nccdinfo.com/event/nccd-unite-for-missions/
LOCATION:Merced New Life\, 2427 E Santa Fe Ave\, Merced\, CA\, 95340\, United States
CATEGORIES:Daughters of the King,Men of Valor,NCCD MOP
ATTACH;FMTTYPE=image/png:https://nccdinfo.com/wp-content/uploads/2025/01/United-for-Mission-Slide-Size.png
END:VEVENT
BEGIN:VEVENT
DTSTART;VALUE=DATE:20251019
DTEND;VALUE=DATE:20251020
DTSTAMP:20260423T090607
CREATED:20250110T031500Z
LAST-MODIFIED:20250110T031500Z
UID:5581-1760832000-1760918399@nccdinfo.com
SUMMARY:Flor Azul Offering Deadline
DESCRIPTION:🌸 Attention Local Ladies Leaders: Flor Azul Event Reminder 🌟 \nWe invite all NCCD churches to join us in supporting this year’s Flor Azul fundraising event by submitting your church’s contributions by 📅 October 19\, 2025. \n💌 To submit your offering: \n• Checks payable to: Apostolic Assembly \n• Mail to: Cynthia Guzman \n🌐 What is Flor Azul? \nFlor Azul is a vital fundraising event dedicated to supporting missions\, spreading Christ’s love and message to communities in need around the world. \n❓ For questions or assistance\, please contact: \n• Cynthia Guzman – NCCD Daughters of the King Coordinator 💼 \n🙏 Your contributions make a difference! Thank you for your commitment to advancing our mission and bringing hope to many. 💙✨ \n\n🌸 Atención Líderes Locales de Damas: Recordatorio del Evento Flor Azul 🌟 \nInvitamos a todas las iglesias NCCD a unirse a nosotros en el apoyo al evento de recaudación de fondos Flor Azul de este año\, enviando las contribuciones de su iglesia antes del 📅 19 de octubre de 2025. \n💌 Para enviar su ofrenda: \n• Cheques a nombre de: Asamblea Apostólica \n• Enviar por correo a: Cynthia Guzman \n🌐 ¿Qué es Flor Azul? \nFlor Azul es un evento de recaudación de fondos vital dedicado a apoyar misiones\, difundiendo el amor y el mensaje de Cristo a las comunidades necesitadas en todo el mundo. \n❓ Para preguntas o asistencia\, por favor contacte a: \n• Cynthia Guzman – Coordinadora de Hijas del Rey NCCD 💼 \n🙏 ¡Sus contribuciones marcan la diferencia! Gracias por su compromiso en avanzar nuestra misión y llevar esperanza a muchos. 💙✨
URL:https://nccdinfo.com/event/flor-azul-offering-deadline/
CATEGORIES:Daughters of the King
END:VEVENT
BEGIN:VEVENT
DTSTART;VALUE=DATE:20251016
DTEND;VALUE=DATE:20251017
DTSTAMP:20260423T090607
CREATED:20250103T054139Z
LAST-MODIFIED:20250103T054139Z
UID:5375-1760572800-1760659199@nccdinfo.com
SUMMARY:NCCD Programing 2026
DESCRIPTION:
URL:https://nccdinfo.com/event/nccd-programing-2026/
CATEGORIES:District
END:VEVENT
BEGIN:VEVENT
DTSTART;TZID=Asia/Dubai:20251008T080000
DTEND;TZID=Asia/Dubai:20251011T170000
DTSTAMP:20260423T090607
CREATED:20250103T053837Z
LAST-MODIFIED:20250716T200431Z
UID:5373-1759910400-1760202000@nccdinfo.com
SUMMARY:NCCD Pastoral Retreat
DESCRIPTION:  \n  \n  \n  \n  \n  \n  \n  \n  \nNorth Central California District \nPastoral Retreat 2025 \nTheme: He Restores My Soul \nDates: \nWednesday\, October 8 – Friday\, October 10\, 2025 \nLocation: \nSeaCrest OceanFront Hotel \nPismo Beach\, CA \nCost: $300 per person \n•    $100 deposit due: July 31\, 2025 \n•    Final balance due: October 1\, 2025 \n•    Payment methods: Checks and card only \nJoin us for a time of rest\, reflection\, and renewal by the ocean. We invite all pastors within our district to come away and be refreshed in God’s presence. \nREGISTER HERE
URL:https://nccdinfo.com/event/nccd-pastoral-retreat/
CATEGORIES:District
ATTACH;FMTTYPE=image/png:https://nccdinfo.com/wp-content/uploads/2025/01/12.png
END:VEVENT
BEGIN:VEVENT
DTSTART;VALUE=DATE:20251005
DTEND;VALUE=DATE:20251006
DTSTAMP:20260423T090607
CREATED:20250110T032506Z
LAST-MODIFIED:20250110T032506Z
UID:5583-1759622400-1759708799@nccdinfo.com
SUMMARY:Reach America Offering Deadline
DESCRIPTION:🌟 Attention Local Men’s Leaders: Reach America Event Reminder 🌟 \nWe invite all NCCD churches to participate in this year’s Reach America fundraising event by submitting your church’s contributions by 📅 October 5\, 2025. \n💌 To submit your offering: \n• Checks payable to: Apostolic Assembly \n• Mail to: Elias Ayala \n🌐 What is Reach America? \nReach America is a vital fundraising event dedicated to supporting missions that spread Christ’s message throughout the United States\, helping communities find hope and faith. \n❓ For questions or assistance\, please contact: \n• Pastor Hector Caudillo  – President of Men of Valor 💼 \n• Pastor Elias Ayala – Treasurer of Men of Valor 💼 \n🙏 Your contributions make a difference! Thank you for your continued support in our mission to reach and transform lives. 💪✨ \n\n🌟 Atención Líderes Locales de Varones: Recordatorio del Evento Reach America 🌟 \nInvitamos a todas las iglesias NCCD a participar en el evento de recaudación de fondos Reach America de este año\, enviando las contribuciones de su iglesia antes del 📅 5 de octubre de 2025. \n💌 Para enviar su ofrenda: \n• Cheques a nombre de: Asamblea Apostólica \n• Enviar por correo a: Elias Ayala \n🌐 ¿Qué es Reach America? \nReach America es un evento fundamental para recaudar fondos\, dedicado a apoyar misiones que extienden el mensaje de Cristo por todo Estados Unidos\, ayudando a comunidades a encontrar esperanza y fe. \n❓ Para preguntas o asistencia\, por favor contacte a: \n• Pastor Hector Caudillo – Presidente de Hombres de Valor 💼 \n• Pastor Elias Ayala – Tesorero de Hombres de Valor 💼 \n🙏 ¡Sus contribuciones marcan la diferencia! Gracias por su apoyo continuo en nuestra misión de alcanzar y transformar vidas. 💪✨
URL:https://nccdinfo.com/event/reach-america-offering-deadline/
CATEGORIES:Men of Valor
END:VEVENT
BEGIN:VEVENT
DTSTART;VALUE=DATE:20251004
DTEND;VALUE=DATE:20251005
DTSTAMP:20260423T090607
CREATED:20250103T053530Z
LAST-MODIFIED:20250103T053530Z
UID:5371-1759536000-1759622399@nccdinfo.com
SUMMARY:NCCD Pastoral Meeting In-Person
DESCRIPTION:
URL:https://nccdinfo.com/event/nccd-pastoral-meeting-in-person/
CATEGORIES:District
END:VEVENT
BEGIN:VEVENT
DTSTART;VALUE=DATE:20250926
DTEND;VALUE=DATE:20250928
DTSTAMP:20260423T090607
CREATED:20250103T052742Z
LAST-MODIFIED:20250103T052742Z
UID:5369-1758844800-1759017599@nccdinfo.com
SUMMARY:School of Planters
DESCRIPTION:
URL:https://nccdinfo.com/event/school-of-planters/
CATEGORIES:National Event
END:VEVENT
BEGIN:VEVENT
DTSTART;VALUE=DATE:20250919
DTEND;VALUE=DATE:20250921
DTSTAMP:20260423T090607
CREATED:20250103T052659Z
LAST-MODIFIED:20250915T031448Z
UID:5367-1758240000-1758412799@nccdinfo.com
SUMMARY:Edify Together
DESCRIPTION:Edify Together 2025\nDates / Fechas: Friday\, September 19 (7:00 p.m.) & Saturday\, September 20 (9:00 a.m.)\nLocation / Lugar: Clovis Apostolic Church \n\nENGLISH\nOn behalf of the presidents of Daughters of the King\, Messengers of Peace\, and Men of Valor (NCCD)\, we invite you to join us for Edify Together 2025—a two-day gathering designed to equip\, empower\, and edify the Body of Christ. This special event is open to men\, women\, and youth from all of our churches. \nAcross two days\, gifted speakers will lead practical\, Spirit-filled sessions in areas such as: \n💰 Finances & Stewardship – Eddie Campa\n💒 Marriage & Family – Edgar & Elizabeth Orellana\n📸 Creative Ministry – Caleb Maffey\n🎶 Music Ministry – Gordy Dicochea\n👧 Children’s Ministry – Elizabeth Caudillo\n🧠 Mental Health – Patty Velasco \nWhether you’re a leader\, volunteer\, or simply eager to grow\, you’ll leave with tools\, inspiration\, and fresh vision for your local church. Don’t miss this time of teaching\, fellowship\, and unity! \n📌 Mark your calendars and plan to be part of Edify Together 2025. \nREGISTER NOW \nA special program for children will be available on both days. Register your child here.  \n\nESPAÑOL\nEn nombre de los presidentes de Hijas del Rey\, Mensajeros de Paz y Hombres de Valor (NCCD)\, le invitamos a Edifica Juntos 2025—un encuentro de dos días diseñado para equipar\, empoderar y edificar el Cuerpo de Cristo. Este evento especial está abierto a varones\, damas y jóvenes de todas nuestras iglesias. \nDurante estos dos días\, conferencistas capacitados dirigirán sesiones prácticas y llenas del Espíritu en áreas como: \n💰 Finanzas y Mayordomía – Eddie Campa\n💒 Matrimonio y Familia – Edgar & Elizabeth Orellana\n📸 Ministerio Creativo – Caleb Maffey\n🎶 Ministerio de Música – Gordy Dicochea\n👧 Ministerio Infantil – Elizabeth Caudillo\n🧠 Salud Mental – Patty Velasco \nYa sea que usted sea líder\, voluntario o simplemente desee crecer\, saldrá con herramientas\, inspiración y una visión renovada para su iglesia local. ¡No se pierda este tiempo de enseñanza\, compañerismo y unidad! \n📌 Aparte la fecha y planifique ser parte de Edify Together 2025. \nRegistrate Ahora \nHabrá un programa especial para niños ambos días. Inscriba a su hijo/a aquí.
URL:https://nccdinfo.com/event/edify-together/
LOCATION:Clovis Apostolic Church\, 410 Cherry Lane\, Clovis\, CA\, 93612\, United States
CATEGORIES:Daughters of the King,Men of Valor,NCCD MOP
ATTACH;FMTTYPE=image/png:https://nccdinfo.com/wp-content/uploads/2025/01/Edify-Together-Google-Form-Banner.png
END:VEVENT
BEGIN:VEVENT
DTSTART;VALUE=DATE:20250913
DTEND;VALUE=DATE:20250914
DTSTAMP:20260423T090607
CREATED:20250103T052320Z
LAST-MODIFIED:20250716T234826Z
UID:5365-1757721600-1757807999@nccdinfo.com
SUMMARY:NCCD Ladies Road Trip
DESCRIPTION:DOK Roadtrip \nViaje de Hijas del Rey \nDestinations:\nSolvang\, Pismo Beach\, and Outlets \nDate:\nSaturday\, September 13 at 6:00 AM\nSábado\, 13 de Septiembre | 6:00 AM \nBus Pick-Up Location:\nLiving Water Church \nLugar de recogida del autobús:\nLiving Water \nCost:\n$70 per person | por persona\n(No refunds | No reembolso)\nTransfers allowed | Transferir es permitido \nWhat’s Included:\n • Snack bag | Bolsa de snacks\n• DOK registered participants are entered into a $50 raffle\n(Hija del Rey registrada entra a una rifa de $50)\nRegistration Deadline:\nAugust 31 | Fecha tope 8/31 \nREGISTER HERE
URL:https://nccdinfo.com/event/nccd-ladies-road-trip/
CATEGORIES:Daughters of the King
ATTACH;FMTTYPE=image/png:https://nccdinfo.com/wp-content/uploads/2025/01/IMG_0631.png
END:VEVENT
BEGIN:VEVENT
DTSTART;VALUE=DATE:20250908
DTEND;VALUE=DATE:20250909
DTSTAMP:20260423T090607
CREATED:20250103T052242Z
LAST-MODIFIED:20250103T052242Z
UID:5362-1757289600-1757375999@nccdinfo.com
SUMMARY:IABC 1st Day of Classes
DESCRIPTION:
URL:https://nccdinfo.com/event/iabc-1st-day-of-classes/
CATEGORIES:NCCD IABC
END:VEVENT
BEGIN:VEVENT
DTSTART;TZID=Asia/Dubai:20250904T170000
DTEND;TZID=Asia/Dubai:20250906T120000
DTSTAMP:20260423T090607
CREATED:20250208T183857Z
LAST-MODIFIED:20250510T051756Z
UID:5619-1757005200-1757160000@nccdinfo.com
SUMMARY:NCCD Men of Valor Camp 2025
DESCRIPTION:Register Here \nJoin us for a transformative men’s camp\, “A New Man\,” based on 2 Corinthians 5:17. Immerse yourself in a serene natural setting as we seek God’s guidance on a journey of spiritual renewal and empowerment. Through inspiring worship\, anointed preaching\, and fellowship\, you will be equipped to walk in the new identity God has for you. Don’t miss this opportunity for deep transformation and to forge lifelong connections. Register now for an experience that will change your life. \n// \nÚnase a nosotros para un campamento transformador de hombres\, “Un Hombre Nuevo\,” basado en 2 Corintios 5:17. Sumérgete en un entorno natural sereno mientras buscamos a Dios para que nos guíe en un viaje de renovación espiritual y empoderamiento. A través de adoración inspiradora\, predicación ungida y compañerismo\, serás equipado para caminar en la nueva identidad que Dios tiene para ti. No te pierdas esta oportunidad de experimentar una transformación profunda y forjar conexiones que durarán toda la vida. Regístrate ahora para una experiencia que cambiará tu vida. \nFECHA/DATE: SEPTEMBER 4-6\, 2025 \nCOST/ COSTO: $250\nEarly Bird March 31\, $225 with $50 deposit\nno refunds/ tranferrable \nCosto especial $225 con deposito de $50\nno retornable\, transferible \nDEPOSIT: $50 \nSHIRT/CAMISA: $20 \n 
URL:https://nccdinfo.com/event/nccd-men-of-valor-camp-2025/
CATEGORIES:Men of Valor
END:VEVENT
BEGIN:VEVENT
DTSTART;VALUE=DATE:20250901
DTEND;VALUE=DATE:20250902
DTSTAMP:20260423T090607
CREATED:20250103T052105Z
LAST-MODIFIED:20250103T052105Z
UID:5359-1756684800-1756771199@nccdinfo.com
SUMMARY:Labor Day
DESCRIPTION:
URL:https://nccdinfo.com/event/labor-day/
END:VEVENT
BEGIN:VEVENT
DTSTART;VALUE=DATE:20250822
DTEND;VALUE=DATE:20250823
DTSTAMP:20260423T090607
CREATED:20250110T030837Z
LAST-MODIFIED:20250110T030837Z
UID:5579-1755820800-1755907199@nccdinfo.com
SUMMARY:Widow's Oil Offering Deadline
DESCRIPTION:🌸 Attention Local Ladies Leaders: Widow’s Oil Offering Deadline 🌟\nWe encourage all of our NCCD churches to participate in this year’s Widow’s Oil fundraising program by submitting your church’s offering by 📅 August 22\, 2025.\n\n💌 To submit your offering:\n•Checks payable to: Apostolic Assembly\n•Mail to: Cynthia Guzman\n\n🌐 What is Widow’s Oil?\nThis program provides vital social assistance to widows within our church organization\, embodying Christ’s love and care for those in need.\n\n❓ For questions or assistance\, please contact:\n• Cynthia Guzman – NCCD Daughters of the King Coordinator 💼\n\n🙏 Your contributions make a difference! Thank you for your support in uplifting and empowering the widows in our community. 💜✨\n\n——\n\n🌸 Atención Líderes Locales de Damas: Fecha Límite para la Ofrenda del Programa “Aceite de la Viuda” 🌟\nAnimamos a todas nuestras iglesias del NCCD a participar en el programa de recaudación de fondos “Aceite de la Viuda\,” enviando la ofrenda de su iglesia antes del 📅 22 de agosto de 2025.\n\n💌 Para enviar su ofrenda:\n•Cheques a nombre de: Asamblea Apostólica\n•Enviar por correo a: Cynthia Guzmán\n\n🌐 ¿Qué es el programa “Aceite de la Viuda”?\nEste programa provee asistencia social esencial a las viudas dentro de nuestra organización\, demostrando el amor y cuidado de Cristo por aquellos en necesidad.\n\n❓ Para preguntas o asistencia\, comuníquese con:\n• Cynthia Guzmán – Coordinadora de Hijas del Rey NCCD 💼\n\n🙏 ¡Sus contribuciones hacen la diferencia! Gracias por su apoyo en levantar y empoderar a las viudas de nuestra comunidad. 💜✨
URL:https://nccdinfo.com/event/widows-oil-offering-deadline/
CATEGORIES:Daughters of the King
END:VEVENT
BEGIN:VEVENT
DTSTART;VALUE=DATE:20250815
DTEND;VALUE=DATE:20250817
DTSTAMP:20260423T090607
CREATED:20250103T052121Z
LAST-MODIFIED:20250103T053813Z
UID:5360-1755216000-1755388799@nccdinfo.com
SUMMARY:Men of Impact
DESCRIPTION:
URL:https://nccdinfo.com/event/men-of-impact/
CATEGORIES:National Event
END:VEVENT
BEGIN:VEVENT
DTSTART;TZID=Asia/Dubai:20250811T190000
DTEND;TZID=Asia/Dubai:20250811T200000
DTSTAMP:20260423T090607
CREATED:20250103T051916Z
LAST-MODIFIED:20250103T052046Z
UID:5352-1754938800-1754942400@nccdinfo.com
SUMMARY:IABC Orientation
DESCRIPTION:IABC Orientation 2025 \n📚 Your First Step into a Transformative Journey 📚 \n📅 Date: August 11\, 2025 \n📍 Location: Clovis Apostolic Church \nCalling all new and returning students! Join us for the annual IABC Orientation\, where you’ll get everything you need to start the academic year at our district Bible college. \n✨ What You’ll Learn: \n•The upcoming academic schedule \n•Tuition costs and payment plans \n•College policies and expectations \n•Resources to help you succeed \nThis is your chance to connect with faculty\, meet fellow students\, and prepare for a year of growth and discovery in God’s Word. Don’t miss this important kickoff to your Bible college journey! 🙌✨
URL:https://nccdinfo.com/event/iabc-orientation/
LOCATION:Clovis Apostolic Church\, 410 Cherry Lane\, Clovis\, CA\, 93612\, United States
CATEGORIES:NCCD IABC
END:VEVENT
BEGIN:VEVENT
DTSTART;VALUE=DATE:20250807
DTEND;VALUE=DATE:20250810
DTSTAMP:20260423T090607
CREATED:20250103T051633Z
LAST-MODIFIED:20250427T001352Z
UID:5348-1754524800-1754783999@nccdinfo.com
SUMMARY:NCCD Juniors Camp
DESCRIPTION:NCCD Junior Camp 2025\nDates: August 7–9\, 2025\nLocation: Old Oak Ranch\, Sonora\, CA \nJoin us for an unforgettable experience at NCCD Junior Camp 2025! \nThis year’s theme\, “For Such a Time as This\,” reminds us that God has called this generation for a special purpose. We are excited to welcome Guest Speaker Dr. Marty Amin as we gather for three powerful days of worship\, learning\, and fun. \nRegistration Details:\n· Camp Cost: $200 (until July 12)\n· Late Registration (after July 12): $250\n· Deposit: $50\n· Optional T-Shirt Add-On: $20\n· Registration Deadline: July 12\, 2025 \nImportant: All required documents (waiver and camp rules) must be uploaded to complete your registration. \nLocation:\nOld Oak Ranch\n15250 Old Oak Ranch Rd\nSonora\, CA 95370 \nWhether you are coming as a Camper (ages 9–13) or Junior Staff (18+)\, prepare for a life-changing time together! Expect powerful services\, new friendships\, team activities\, and moments that will strengthen your faith. \nRegister early to save your spot! \nREGISTER HERE! https://north-central-california-district-428228.churchcenter.com/registrations/events/2843034
URL:https://nccdinfo.com/event/nccd-juniors-camp/
CATEGORIES:Juniors MOP
END:VEVENT
BEGIN:VEVENT
DTSTART;VALUE=DATE:20250719
DTEND;VALUE=DATE:20250720
DTSTAMP:20260423T090607
CREATED:20250103T051803Z
LAST-MODIFIED:20250103T051803Z
UID:5354-1752883200-1752969599@nccdinfo.com
SUMMARY:NCCD Pastoral Meeting
DESCRIPTION:
URL:https://nccdinfo.com/event/nccd-pastoral-meeting/
CATEGORIES:District
END:VEVENT
BEGIN:VEVENT
DTSTART;VALUE=DATE:20250719
DTEND;VALUE=DATE:20250720
DTSTAMP:20260423T090607
CREATED:20250103T051858Z
LAST-MODIFIED:20250103T051907Z
UID:5356-1752883200-1752969599@nccdinfo.com
SUMMARY:Ministerial Service
DESCRIPTION:
URL:https://nccdinfo.com/event/ministerial-service/
CATEGORIES:District
END:VEVENT
BEGIN:VEVENT
DTSTART;VALUE=DATE:20250712
DTEND;VALUE=DATE:20250713
DTSTAMP:20260423T090607
CREATED:20250103T051655Z
LAST-MODIFIED:20250113T035450Z
UID:5350-1752278400-1752364799@nccdinfo.com
SUMMARY:NCCD Junior's Pre-Camp Service
DESCRIPTION:
URL:https://nccdinfo.com/event/nccd-juniors-pre-camp-service/
CATEGORIES:Juniors MOP
END:VEVENT
BEGIN:VEVENT
DTSTART;VALUE=DATE:20250707
DTEND;VALUE=DATE:20250710
DTSTAMP:20260423T090607
CREATED:20250103T051601Z
LAST-MODIFIED:20250103T051601Z
UID:5347-1751846400-1752105599@nccdinfo.com
SUMMARY:IABC Director's | Workshop
DESCRIPTION:
URL:https://nccdinfo.com/event/iabc-directors-workshop/
CATEGORIES:NCCD IABC
END:VEVENT
BEGIN:VEVENT
DTSTART;VALUE=DATE:20250704
DTEND;VALUE=DATE:20250705
DTSTAMP:20260423T090607
CREATED:20250103T051511Z
LAST-MODIFIED:20250103T051511Z
UID:5345-1751587200-1751673599@nccdinfo.com
SUMMARY:Independence Day
DESCRIPTION:
URL:https://nccdinfo.com/event/independence-day/
END:VEVENT
BEGIN:VEVENT
DTSTART;VALUE=DATE:20250621
DTEND;VALUE=DATE:20250622
DTSTAMP:20260423T090607
CREATED:20250103T051216Z
LAST-MODIFIED:20250103T051216Z
UID:5343-1750464000-1750550399@nccdinfo.com
SUMMARY:Ministerial Interviews
DESCRIPTION:
URL:https://nccdinfo.com/event/ministerial-interviews/
CATEGORIES:District
END:VEVENT
BEGIN:VEVENT
DTSTART;VALUE=DATE:20250621
DTEND;VALUE=DATE:20250622
DTSTAMP:20260423T090607
CREATED:20250103T051133Z
LAST-MODIFIED:20250525T031019Z
UID:5340-1750464000-1750550399@nccdinfo.com
SUMMARY:IABC Graduation
DESCRIPTION:🎓 Graduation Ceremony – Class of 2025\nJoin us in celebrating the accomplishments of our graduating class! \nThe North Central California District – International Apostolic Bible College invites you to attend our 2025 Graduation Ceremony as we honor the hard work\, dedication\, and spiritual growth of this year’s graduates. This special event marks a significant milestone in their journey of faith\, learning\, and ministry preparation. \n📍 Location:\nDoubleTree by Hilton Hotel – Fresno Convention Center\n2233 Cesar Chavez Blvd\, Fresno\, CA 93721 \n📅 Date & Time:\nSaturday\, June 21\, 2025\nCeremony Begins at 5:00 PM \nFamily\, friends\, pastors\, and church members are all welcome to attend and support our graduates as they step into the next chapter of their calling. Come celebrate this momentous occasion with us as we give glory to God for what He has done in their lives and look forward with faith to what He will do next!
URL:https://nccdinfo.com/event/iabc-graduation/
LOCATION:DoubleTree by Hilton Hotel – Fresno Convention Center\, 2233 Cesar Chavez Blvd\, Fresno\, CA\, 93721\, United States
CATEGORIES:NCCD IABC
ATTACH;FMTTYPE=image/jpeg:https://nccdinfo.com/wp-content/uploads/2025/01/1-1.jpg
END:VEVENT
BEGIN:VEVENT
DTSTART;VALUE=DATE:20250615
DTEND;VALUE=DATE:20250616
DTSTAMP:20260423T090607
CREATED:20250103T051012Z
LAST-MODIFIED:20250103T051012Z
UID:5338-1749945600-1750031999@nccdinfo.com
SUMMARY:Father's Day
DESCRIPTION:
URL:https://nccdinfo.com/event/fathers-day/
END:VEVENT
BEGIN:VEVENT
DTSTART;VALUE=DATE:20250609
DTEND;VALUE=DATE:20250614
DTSTAMP:20260423T090607
CREATED:20250103T050933Z
LAST-MODIFIED:20250103T050933Z
UID:5335-1749427200-1749859199@nccdinfo.com
SUMMARY:School of Pastoral | Formation
DESCRIPTION:
URL:https://nccdinfo.com/event/school-of-pastoral-formation/
CATEGORIES:National Event
END:VEVENT
BEGIN:VEVENT
DTSTART;VALUE=DATE:20250531
DTEND;VALUE=DATE:20250601
DTSTAMP:20260423T090607
CREATED:20250103T050603Z
LAST-MODIFIED:20250525T031558Z
UID:5333-1748649600-1748735999@nccdinfo.com
SUMMARY:NCCD MOP Reach the Valley - Madera
DESCRIPTION:🌄 Reach the Valley – Madera Outreach Day\nPresented by NCCD MOP \n📅 Date: Saturday\, May 31\, 2025\n🕖 Time: 7:00 AM – 1:00 PM\n📍 Location: Outreach teams will meet at 7:00 AM (Exact location TBD) \nJoin us as we Reach the Valley with the love and hope of Jesus! The North Central California District Men of Promise (NCCD MOP) is organizing a one-day outreach in Madera\, CA\, and we’re calling on 50–75 young people\, youth leaders\, ministers\, and pastors to be a part of this impactful mission. \nWe’ll begin with a brief orientation and check-in at 7:00 AM before heading out to serve various locations across the city\, including: \n· Madera Grace\n· Madera Rescue Mission\n· Madera Courthouse Park \nThis is a hands-on outreach opportunity—transportation may be needed\, so please plan accordingly. \n📋 Sign-Up Info: \nAll participants must sign up before Wednesday\, May 28.\nA Pre-Orientation session will be held on Wednesday\, May 28 at 6:00 PM to review logistics and expectations. \n🧭 Team Leaders: \nIf you’re 18 or older and interested in leading a team\, please email us at nccdmop@gmail.com.\nLeaders must have completed:\n· A Live Scan background check through the Apostolic Assembly\n· Annual child abuse prevention training \nLet’s come together to make a difference in the Valley—one soul\, one prayer\, one act of service at a time. \nSing Up Here
URL:https://nccdinfo.com/event/nccd-mop-serve-the-city/
CATEGORIES:NCCD MOP
ATTACH;FMTTYPE=image/png:https://nccdinfo.com/wp-content/uploads/2025/01/Reach-the-Valley-25-Google-Form.png
END:VEVENT
END:VCALENDAR