BEGIN:VCALENDAR
VERSION:2.0
PRODID:-//NCCD - ECPv6.15.20//NONSGML v1.0//EN
CALSCALE:GREGORIAN
METHOD:PUBLISH
X-WR-CALNAME:NCCD
X-ORIGINAL-URL:https://nccdinfo.com
X-WR-CALDESC:Events for NCCD
REFRESH-INTERVAL;VALUE=DURATION:PT1H
X-Robots-Tag:noindex
X-PUBLISHED-TTL:PT1H
BEGIN:VTIMEZONE
TZID:Asia/Dubai
BEGIN:STANDARD
TZOFFSETFROM:+0400
TZOFFSETTO:+0400
TZNAME:+04
DTSTART:20250101T000000
END:STANDARD
END:VTIMEZONE
BEGIN:VEVENT
DTSTART;VALUE=DATE:20260504
DTEND;VALUE=DATE:20260509
DTSTAMP:20260423T004728
CREATED:20260105T205554Z
LAST-MODIFIED:20260105T205554Z
UID:5723-1777852800-1778284799@nccdinfo.com
SUMMARY:MOV Prayer Week
DESCRIPTION:MOV Prayer Week is a dedicated time for the men of our district to come together in spirit and unity through prayer. Each man is encouraged to pray during the week—whether individually or with others—creating a continuous chain of faith\, intercession\, and spiritual support. This week is a time to seek God’s guidance\, strength\, and blessings for our lives\, families\, and community.
URL:https://nccdinfo.com/event/mov-prayer-week/
CATEGORIES:Men of Valor
END:VEVENT
BEGIN:VEVENT
DTSTART;VALUE=DATE:20260509
DTEND;VALUE=DATE:20260510
DTSTAMP:20260423T004728
CREATED:20260101T213713Z
LAST-MODIFIED:20260410T000056Z
UID:5698-1778284800-1778371199@nccdinfo.com
SUMMARY:SAFE CHURCH SEMINAR: Child Abuse and Sexual Harassment Prevention Training
DESCRIPTION:SAFE CHURCH SEMINAR:\nChild Abuse and Sexual Harassment Prevention Training \nThis seminar is designed to equip district leaders with essential knowledge\, tools\, and resources to help prevent child abuse and sexual harassment within our churches and organizations. Participants will gain practical insight into recognizing warning signs\, understanding proper protocols\, and creating safe\, accountable environments for all. Together\, we commit to education\, awareness\, and responsible leadership.
URL:https://nccdinfo.com/event/child-abuse-and-sexual-harassment-prevention-seminar/
CATEGORIES:District
END:VEVENT
BEGIN:VEVENT
DTSTART;VALUE=DATE:20260514
DTEND;VALUE=DATE:20260517
DTSTAMP:20260423T004728
CREATED:20260101T213416Z
LAST-MODIFIED:20260413T201438Z
UID:5696-1778716800-1778975999@nccdinfo.com
SUMMARY:NCCD DOK Ladies Retreat - Doubletree Fresno
DESCRIPTION:NCCD DOK Ladies Retreat \nThe NCCD Daughters of the King (DOK) Ladies Retreat is a special time set aside for women to come together\, unite in fellowship\, and celebrate what God is doing among us. This retreat is designed to encourage\, uplift\, and strengthen one another as we gather in a space of joy\, connection\, and renewal. Come ready to grow\, celebrate\, and be refreshed together as one sisterhood. \nREGISTER HERE
URL:https://nccdinfo.com/event/nccd-dok-ladies-retreat/
LOCATION:DoubleTree by Hilton Hotel – Fresno Convention Center\, 2233 Cesar Chavez Blvd\, Fresno\, CA\, 93721\, United States
CATEGORIES:Daughters of the King
END:VEVENT
BEGIN:VEVENT
DTSTART;VALUE=DATE:20260627
DTEND;VALUE=DATE:20260628
DTSTAMP:20260423T004728
CREATED:20260105T205807Z
LAST-MODIFIED:20260105T205807Z
UID:5725-1782518400-1782604799@nccdinfo.com
SUMMARY:Junior MOP Pre-Camp Service
DESCRIPTION:The Junior MOP Pre-Camp Service is a special gathering for our juniors to prepare their hearts and minds for the upcoming camp. Through worship\, prayer\, and teaching\, young people are encouraged to seek God\, unite in fellowship\, and set their focus on spiritual growth as they anticipate an exciting time at camp.
URL:https://nccdinfo.com/event/junior-mop-pre-camp-service/
CATEGORIES:Juniors MOP
END:VEVENT
BEGIN:VEVENT
DTSTART;VALUE=DATE:20260718
DTEND;VALUE=DATE:20260719
DTSTAMP:20260423T004728
CREATED:20260313T181301Z
LAST-MODIFIED:20260313T181301Z
UID:5758-1784332800-1784419199@nccdinfo.com
SUMMARY:NCCD IABC Graduation
DESCRIPTION:Join us to celebrate this year’s graduating class of our North Central California District International Apostolic Bible College.
URL:https://nccdinfo.com/event/nccd-iabc-graduation/
CATEGORIES:NCCD IABC
END:VEVENT
BEGIN:VEVENT
DTSTART;VALUE=DATE:20260803
DTEND;VALUE=DATE:20260806
DTSTAMP:20260423T004728
CREATED:20260105T205958Z
LAST-MODIFIED:20260413T201135Z
UID:5727-1785715200-1785974399@nccdinfo.com
SUMMARY:Junior MOP Camp 2026
DESCRIPTION:Junior MOP Camp 2026 is a special gathering for the juniors of our district to come together for fellowship\, fun\, and spiritual growth. Through worship\, teaching\, and activities\, campers are encouraged to deepen their relationship with God\, build meaningful friendships\, and be inspired to walk boldly in their faith. \nCLICK HERE TO REGISTER! \nUPLOAD FORMS HERE!
URL:https://nccdinfo.com/event/junior-mop-camp-2026/
CATEGORIES:Juniors MOP
END:VEVENT
BEGIN:VEVENT
DTSTART;VALUE=DATE:20260821
DTEND;VALUE=DATE:20260823
DTSTAMP:20260423T004728
CREATED:20260221T195018Z
LAST-MODIFIED:20260221T195018Z
UID:5754-1787270400-1787443199@nccdinfo.com
SUMMARY:Strategy of Jesus
DESCRIPTION:Strategy of Jesus \n📍 Merced New Life \n📅 August 21–22 \nJoin us for Strategy of Jesus\, a powerful two-day event focused on understanding how Jesus intentionally discipled\, led\, and transformed lives and how we can follow His example today. Together\, we’ll explore what it means to live with purpose\, build meaningful relationships\, and impact our generation through authentic faith.
URL:https://nccdinfo.com/event/strategy-of-jesus/
LOCATION:Merced New Life\, 2427 E Santa Fe Ave\, Merced\, CA\, 95340\, United States
CATEGORIES:District
END:VEVENT
BEGIN:VEVENT
DTSTART;VALUE=DATE:20260905
DTEND;VALUE=DATE:20260906
DTSTAMP:20260423T004728
CREATED:20260107T001524Z
LAST-MODIFIED:20260107T002302Z
UID:5729-1788566400-1788652799@nccdinfo.com
SUMMARY:NCCD DOK Ladies Day
DESCRIPTION:The DOK Ladies Day invites the Daughters of the King to step away from the routine and spend meaningful time together in fellowship and sisterhood. Through a planned field trip and shared experiences\, this day is meant to encourage connection\, joy\, and unity. Additional details will be provided soon.
URL:https://nccdinfo.com/event/dok-ladies-day/
CATEGORIES:Daughters of the King
END:VEVENT
BEGIN:VEVENT
DTSTART;VALUE=DATE:20260910
DTEND;VALUE=DATE:20260913
DTSTAMP:20260423T004728
CREATED:20260101T214726Z
LAST-MODIFIED:20260309T021552Z
UID:5702-1788998400-1789257599@nccdinfo.com
SUMMARY:MOV Camp
DESCRIPTION:Join us for the North Central California District Men of Valor Camp\, “Off Hand & Heart\,” inspired by Psalm 24. \nThis year’s camp is a call for men to pursue purity\, integrity\, and wholehearted devotion to God. Psalm 24 reminds us that those who seek the presence of the Lord must come with clean hands and a pure heart. During this powerful weekend in the mountains\, we will gather for dynamic worship\, impactful preaching\, and meaningful fellowship with men from across our district. \nSet in the beautiful surroundings of Timber Mountain Campground\, this camp will be a time to reconnect with God\, strengthen your faith\, and build lasting brotherhood with other men who desire to walk faithfully with the Lord. \nCome ready to seek God\, be challenged\, and return home renewed. \nEspañol \nÚnase a nosotros en el Campamento de Hombres de Valor del Distrito Norte Central de California\, “Manos y Corazón\,” inspirado en el Salmo 24. \nEste campamento es un llamado para que los hombres busquen pureza\, integridad y una devoción completa a Dios. El Salmo 24 nos recuerda que aquellos que desean entrar en la presencia del Señor deben hacerlo con manos limpias y un corazón puro. Durante este poderoso fin de semana en las montañas\, nos reuniremos para tener adoración dinámica\, predicación ungida y compañerismo con hombres de todo nuestro distrito. \nEn el hermoso entorno del campamento Timber Mountain\, este evento será un tiempo para reconectarse con Dios\, fortalecer la fe y formar hermandades duraderas con otros hombres que desean caminar fielmente con el Señor. \nVen preparado para buscar a Dios\, ser desafiado y regresar renovado. \nEvent Details \nDATE / FECHA: September 10–12\, 2026 \nLOCATION / LUGAR: \nTimber Mountain Campground\n48478 Mill Canyon Rd\nOakhurst\, CA 93644 \nCOST / COSTO: $250 \nEarly Bird / Especial: \n$225 with $50 deposit before March 31\nDepósito de $50 para asegurar precio de $225 antes del 31 de marzo \nDeposit / Depósito: $50 \nShirt / Camisa: $25 \nNote / Nota: \nDeposits are non-refundable but transferable. \nDepósitos no son reembolsables\, pero son transferibles.
URL:https://nccdinfo.com/event/mov-camp/
CATEGORIES:Men of Valor
END:VEVENT
BEGIN:VEVENT
DTSTART;VALUE=DATE:20260911
DTEND;VALUE=DATE:20260913
DTSTAMP:20260423T004728
CREATED:20260101T214511Z
LAST-MODIFIED:20260101T214511Z
UID:5700-1789084800-1789257599@nccdinfo.com
SUMMARY:Edify Together
DESCRIPTION:Edify Together \nEdify Together is a district-wide event designed to strengthen and equip men\, ladies\, and young people through practical resources and engaging workshops. This gathering is focused on building up individuals and empowering churches by providing tools that encourage growth\, unity\, and effective ministry. Come be encouraged\, equipped\, and edified as we grow stronger together.
URL:https://nccdinfo.com/event/edify-together-2/
CATEGORIES:District
END:VEVENT
BEGIN:VEVENT
DTSTART;VALUE=DATE:20261211
DTEND;VALUE=DATE:20261213
DTSTAMP:20260423T004728
CREATED:20260107T002050Z
LAST-MODIFIED:20260107T002050Z
UID:5731-1796947200-1797119999@nccdinfo.com
SUMMARY:NCCD School of Planters
DESCRIPTION:The NCCD School of Planters is a district-wide training event open to leaders\, ministry workers\, and individuals interested in learning more about church planting. This training provides practical skills\, effective strategies\, and foundational lessons to equip participants with the knowledge and insight needed to support and engage in church planting efforts.
URL:https://nccdinfo.com/event/nccd-school-of-planters/
CATEGORIES:District
END:VEVENT
END:VCALENDAR