BEGIN:VCALENDAR
VERSION:2.0
PRODID:-//NCCD - ECPv6.15.20//NONSGML v1.0//EN
CALSCALE:GREGORIAN
METHOD:PUBLISH
X-ORIGINAL-URL:https://nccdinfo.com
X-WR-CALDESC:Events for NCCD
REFRESH-INTERVAL;VALUE=DURATION:PT1H
X-Robots-Tag:noindex
X-PUBLISHED-TTL:PT1H
BEGIN:VTIMEZONE
TZID:Asia/Dubai
BEGIN:STANDARD
TZOFFSETFROM:+0400
TZOFFSETTO:+0400
TZNAME:+04
DTSTART:20240101T000000
END:STANDARD
END:VTIMEZONE
BEGIN:VEVENT
DTSTART;TZID=Asia/Dubai:20250312T190000
DTEND;TZID=Asia/Dubai:20250314T210000
DTSTAMP:20260424T175530
CREATED:20250103T044334Z
LAST-MODIFIED:20250310T030624Z
UID:5297-1741806000-1741986000@nccdinfo.com
SUMMARY:One People Consecrated
DESCRIPTION:One People Consecrated \n🌟 One Mission. One People. One Savior. 🌟 \nJoin us for One People Consecrated\, a transformative three-day consecration tour uniting our Men\, Ladies\, and Youth ministries. This powerful event is designed to ignite hearts\, strengthen faith\, and proclaim the gospel to those seeking hope and purpose. \n🗓️ Event Schedule \n•March 12: Visalia | 100 W School Ave\, Visalia\, CA 93291 \n•March 13: Clovis | 410 Cherry Ln\, Clovis\, CA 93612 \n•March 14: Madera Grace | 16294 N D St\, Madera\, CA 93638 \nEach evening will feature dynamic worship\, life-changing messages\, and an atmosphere filled with the presence of God. These services will be a blessing to the whole family\, offering a space for connection\, reflection\, and renewal. \n🤝 Invite a Friend \nThis event is also an opportunity to share the love of Jesus. Be intentional about bringing friends\, neighbors\, and loved ones who have not yet experienced the gospel. Let’s come together as One People to make an eternal impact! \nPrepare your hearts\, invite others\, and don’t miss this incredible journey of consecration! 🙌✨ \n\nZoom Prayer Meetings \nAs we prepare for our One People Consecration week\, we invite you to join us in 3 days in prayer and fasting for this event. We are anticipating that the souls will receive something special at this event and that we may see baptisms across our sectors. Please join us March 10th-12th at 6 AM for ZOOM Prayers where each department (DOK X MOV X MOP) will lead us in prayer each day We encourage you to Please join us as we anticipate a mighty move of God at this event! \nZoom Meeting Link: https://us06web.zoom.us/j/81680618977?pwd=0hrb49jNlgklAibqLe6jbxRKOjY84b.1 \nMeeting ID: 816 8061 8977 \n Passcode: 566151
URL:https://nccdinfo.com/event/one-people-consecrated/
LOCATION:CA
CATEGORIES:Daughters of the King,Men of Valor,NCCD MOP
ATTACH;FMTTYPE=image/png:https://nccdinfo.com/wp-content/uploads/2025/01/1-People-Consecrated-Slide-Version.png
END:VEVENT
BEGIN:VEVENT
DTSTART;VALUE=DATE:20250315
DTEND;VALUE=DATE:20250316
DTSTAMP:20260424T175530
CREATED:20250103T045204Z
LAST-MODIFIED:20250103T045247Z
UID:5313-1741996800-1742083199@nccdinfo.com
SUMMARY:NCCD MOP Worship Experience
DESCRIPTION:NCCD MOP Worship Experience \n🎶 An Evening of Worship and Encounter 🎶 \n📅 Date: March 15\, 2025 \n📍 Location: — \nJoin us for the NCCD MOP Worship Experience\, a night set apart for powerful worship\, heartfelt praise\, and a divine encounter with God’s presence. This gathering is designed to uplift\, inspire\, and unite believers in an atmosphere of spiritual renewal. \n✨ What to Expect: \n• Dynamic worship led by anointed musicians and singers \n• A message to stir your faith and spirit \n• A community united in praise and purpose \nCome ready to worship\, connect\, and experience a move of God that will refresh your soul and ignite your faith. Invite your friends and family to join us for this unforgettable evening! 🙌✨
URL:https://nccdinfo.com/event/nccd-mop-worship-experience/
LOCATION:CA
CATEGORIES:NCCD MOP
END:VEVENT
END:VCALENDAR