BEGIN:VCALENDAR
VERSION:2.0
PRODID:-//NCCD - ECPv6.15.20//NONSGML v1.0//EN
CALSCALE:GREGORIAN
METHOD:PUBLISH
X-ORIGINAL-URL:https://nccdinfo.com
X-WR-CALDESC:Events for NCCD
REFRESH-INTERVAL;VALUE=DURATION:PT1H
X-Robots-Tag:noindex
X-PUBLISHED-TTL:PT1H
BEGIN:VTIMEZONE
TZID:Asia/Dubai
BEGIN:STANDARD
TZOFFSETFROM:+0400
TZOFFSETTO:+0400
TZNAME:+04
DTSTART:20250101T000000
END:STANDARD
END:VTIMEZONE
BEGIN:VEVENT
DTSTART;VALUE=DATE:20260718
DTEND;VALUE=DATE:20260719
DTSTAMP:20260423T130112
CREATED:20260313T181301Z
LAST-MODIFIED:20260313T181301Z
UID:5758-1784332800-1784419199@nccdinfo.com
SUMMARY:NCCD IABC Graduation
DESCRIPTION:Join us to celebrate this year’s graduating class of our North Central California District International Apostolic Bible College.
URL:https://nccdinfo.com/event/nccd-iabc-graduation/
CATEGORIES:NCCD IABC
END:VEVENT
END:VCALENDAR