BEGIN:VCALENDAR
VERSION:2.0
PRODID:-//NCCD - ECPv6.15.20//NONSGML v1.0//EN
CALSCALE:GREGORIAN
METHOD:PUBLISH
X-ORIGINAL-URL:https://nccdinfo.com
X-WR-CALDESC:Events for NCCD
REFRESH-INTERVAL;VALUE=DURATION:PT1H
X-Robots-Tag:noindex
X-PUBLISHED-TTL:PT1H
BEGIN:VTIMEZONE
TZID:Asia/Dubai
BEGIN:STANDARD
TZOFFSETFROM:+0400
TZOFFSETTO:+0400
TZNAME:+04
DTSTART:20240101T000000
END:STANDARD
END:VTIMEZONE
BEGIN:VEVENT
DTSTART;VALUE=DATE:20250228
DTEND;VALUE=DATE:20250302
DTSTAMP:20260424T214219
CREATED:20250103T044011Z
LAST-MODIFIED:20250224T190058Z
UID:5301-1740700800-1740873599@nccdinfo.com
SUMMARY:Regional Strategy of Jesus Seminar
DESCRIPTION:2025 Strategy of Jesus Regional Seminar\nJoin us for the 2025 Strategy of Jesus Regional Seminar\, an impactful event hosted by the Apostolic Assembly of the Faith in Christ Jesus\, designed to inspire and equip attendees with the tools to fulfill God’s purpose in their lives and ministries. \nEvent Details:\nDates: February 28 – March 1\, 2025 \nLocation: Merced\, California \nSchedule: \n• February 28: 6:00 PM – 9:00 PM \n• March 1: 9:00 AM – 3:00 PM \nRegistration Now Open! \nReserve your spot today to be part of this transformative experience. \nREGISTER HERE \nHotel Accommodations\nSpecial rates are available for seminar attendees. Make your reservation soon as availability is limited: \nQuality Inn: $104 + tax (Code: Apostolic Assembly) \nAddress: 730 Motel Dr\, Merced\, CA 95341 \nPhone: (209) 383-0333 \nHampton Inn: $110 + tax (No Code Needed) \nAddress: 225 S Parsons Ave\, Merced\, CA 95340 \nPhone: (209) 386-1210 \nMerced Courtyard Marriott: $149 + tax (Use QR Code) \nAddress: 750 Motel Dr\, Merced\, CA 95341 \nBook Online: Click Here \nHoliday Inn Express: $149 + tax (Code: Apostolic Assembly) \nAddress: 151 S Parsons Ave\, Merced\, CA 95341 \nPhone: (209) 384-3700 \nBook Online: Click Here \nKids & Junior Seminar\nBring your children along! We’re offering specialized programs for ages 4–13 at a minimal cost of $10 per child. \n \nDates and Times: \n• February 28: 6:00 PM – 9:00 PM \n• March 1: 9:00 AM – 3:00 PM \nDetails: \n• Potty-trained children aged 3.5 years and older are welcome. \n• Parents must also be registered for the main seminar. \n• Limited capacity—register early here! \nTake advantage of this opportunity to grow spiritually\, connect with fellow believers\, and be inspired to carry out the Lord’s work in 2025. We look forward to seeing you there!
URL:https://nccdinfo.com/event/regional-strategy-of-jesus-seminar/
LOCATION:Merced New Life\, 2427 E Santa Fe Ave\, Merced\, CA\, 95340\, United States
CATEGORIES:National Event
ATTACH;FMTTYPE=image/png:https://nccdinfo.com/wp-content/uploads/2025/01/11.png
END:VEVENT
BEGIN:VEVENT
DTSTART;VALUE=DATE:20250307
DTEND;VALUE=DATE:20250309
DTSTAMP:20260424T214219
CREATED:20250103T043441Z
LAST-MODIFIED:20250103T043441Z
UID:5293-1741305600-1741478399@nccdinfo.com
SUMMARY:NYA West Coast | Modesto
DESCRIPTION:
URL:https://nccdinfo.com/event/nya-west-coast-modesto/
CATEGORIES:National Event
END:VEVENT
BEGIN:VEVENT
DTSTART;VALUE=DATE:20250328
DTEND;VALUE=DATE:20250401
DTSTAMP:20260424T214219
CREATED:20250103T050356Z
LAST-MODIFIED:20250103T051125Z
UID:5323-1743120000-1743465599@nccdinfo.com
SUMMARY:PK Camp
DESCRIPTION:PK Camp 2025 \n🌟 A Place for Pastor’s Kids to Connect\, Grow\, and Thrive 🌟 \n📅 Dates: March 28–31\, 2025 \n📍 Location: Camp Hoblitzelle\, Texas \nCalling all Pastor’s Kids and Grandkids! Join us for PK Camp 2025\, a special retreat designed just for you. This unique camp is crafted to provide intentional spiritual care\, support\, and encouragement for the children and grandchildren of pastors in the Apostolic Assembly. \n✨ Who’s Invited? \n•Pastor’s kids (PKs) and grandkids \n•Couples where one person is a PK \n✨ What to Expect: \n•Uplifting worship and teaching sessions \n•Fun activities and meaningful connections \n•A safe space to be heard\, understood\, and inspired \nTake this time to recharge\, build lasting friendships\, and grow in your walk with God. Don’t miss this unforgettable experience at beautiful Camp Hoblitzelle. \n🎉 Let’s make PK Camp 2025 a time to remember! ✨
URL:https://nccdinfo.com/event/pk-camp/
LOCATION:Camp Hoblitzelle\, 8060 Singleton Rd\, Midlothian\, TX\, 76065\, United States
CATEGORIES:National Event
ATTACH;FMTTYPE=image/jpeg:https://nccdinfo.com/wp-content/uploads/2025/01/pkcamp.jpg
END:VEVENT
END:VCALENDAR