BEGIN:VCALENDAR
VERSION:2.0
PRODID:-//NCCD - ECPv6.15.20//NONSGML v1.0//EN
CALSCALE:GREGORIAN
METHOD:PUBLISH
X-WR-CALNAME:NCCD
X-ORIGINAL-URL:https://nccdinfo.com
X-WR-CALDESC:Events for NCCD
REFRESH-INTERVAL;VALUE=DURATION:PT1H
X-Robots-Tag:noindex
X-PUBLISHED-TTL:PT1H
BEGIN:VTIMEZONE
TZID:Asia/Dubai
BEGIN:STANDARD
TZOFFSETFROM:+0400
TZOFFSETTO:+0400
TZNAME:+04
DTSTART:20240101T000000
END:STANDARD
END:VTIMEZONE
BEGIN:VEVENT
DTSTART;VALUE=DATE:20250419
DTEND;VALUE=DATE:20250420
DTSTAMP:20260424T162625
CREATED:20250103T045147Z
LAST-MODIFIED:20250103T045430Z
UID:5312-1745020800-1745107199@nccdinfo.com
SUMMARY:NCCD Daughters of the King Ladies Walk-A-Thon
DESCRIPTION:
URL:https://nccdinfo.com/event/nccd-daughters-of-the-king-ladies-walk-a-thon/
CATEGORIES:Daughters of the King
END:VEVENT
END:VCALENDAR