BEGIN:VCALENDAR
VERSION:2.0
PRODID:-//NCCD - ECPv6.15.20//NONSGML v1.0//EN
CALSCALE:GREGORIAN
METHOD:PUBLISH
X-WR-CALNAME:NCCD
X-ORIGINAL-URL:https://nccdinfo.com
X-WR-CALDESC:Events for NCCD
REFRESH-INTERVAL;VALUE=DURATION:PT1H
X-Robots-Tag:noindex
X-PUBLISHED-TTL:PT1H
BEGIN:VTIMEZONE
TZID:Asia/Dubai
BEGIN:STANDARD
TZOFFSETFROM:+0400
TZOFFSETTO:+0400
TZNAME:+04
DTSTART:20250101T000000
END:STANDARD
END:VTIMEZONE
BEGIN:VEVENT
DTSTART;VALUE=DATE:20260509
DTEND;VALUE=DATE:20260510
DTSTAMP:20260423T123324
CREATED:20260101T213713Z
LAST-MODIFIED:20260410T000056Z
UID:5698-1778284800-1778371199@nccdinfo.com
SUMMARY:SAFE CHURCH SEMINAR: Child Abuse and Sexual Harassment Prevention Training
DESCRIPTION:SAFE CHURCH SEMINAR:\nChild Abuse and Sexual Harassment Prevention Training \nThis seminar is designed to equip district leaders with essential knowledge\, tools\, and resources to help prevent child abuse and sexual harassment within our churches and organizations. Participants will gain practical insight into recognizing warning signs\, understanding proper protocols\, and creating safe\, accountable environments for all. Together\, we commit to education\, awareness\, and responsible leadership.
URL:https://nccdinfo.com/event/child-abuse-and-sexual-harassment-prevention-seminar/
CATEGORIES:District
END:VEVENT
END:VCALENDAR