BEGIN:VCALENDAR
VERSION:2.0
PRODID:-//NCCD - ECPv6.15.20//NONSGML v1.0//EN
CALSCALE:GREGORIAN
METHOD:PUBLISH
X-ORIGINAL-URL:https://nccdinfo.com
X-WR-CALDESC:Events for NCCD
REFRESH-INTERVAL;VALUE=DURATION:PT1H
X-Robots-Tag:noindex
X-PUBLISHED-TTL:PT1H
BEGIN:VTIMEZONE
TZID:Asia/Dubai
BEGIN:STANDARD
TZOFFSETFROM:+0400
TZOFFSETTO:+0400
TZNAME:+04
DTSTART:20250101T000000
END:STANDARD
END:VTIMEZONE
BEGIN:VEVENT
DTSTART;VALUE=DATE:20260418
DTEND;VALUE=DATE:20260419
DTSTAMP:20260423T084249
CREATED:20260101T213018Z
LAST-MODIFIED:20260101T213018Z
UID:5694-1776470400-1776556799@nccdinfo.com
SUMMARY:MOP Reach the Valley Selma
DESCRIPTION:MOP Reach the Valley | Selma\, CA \nMOP Reach the Valley is a community outreach focused on serving Selma\, CA and the surrounding towns with love\, compassion\, and action. Our heart is to step outside the church walls\, meet real needs\, and make a tangible impact by helping families\, encouraging individuals\, and bringing hope to our valley. Together\, we reach\, serve\, and uplift our community—one act of service at a time.
URL:https://nccdinfo.com/event/mop-reach-the-valley-selma/
CATEGORIES:NCCD MOP
END:VEVENT
END:VCALENDAR