BEGIN:VCALENDAR
VERSION:2.0
PRODID:-//NCCD - ECPv6.15.20//NONSGML v1.0//EN
CALSCALE:GREGORIAN
METHOD:PUBLISH
X-ORIGINAL-URL:https://nccdinfo.com
X-WR-CALDESC:Events for NCCD
REFRESH-INTERVAL;VALUE=DURATION:PT1H
X-Robots-Tag:noindex
X-PUBLISHED-TTL:PT1H
BEGIN:VTIMEZONE
TZID:Asia/Dubai
BEGIN:STANDARD
TZOFFSETFROM:+0400
TZOFFSETTO:+0400
TZNAME:+04
DTSTART:20250101T000000
END:STANDARD
END:VTIMEZONE
BEGIN:VEVENT
DTSTART;VALUE=DATE:20260321
DTEND;VALUE=DATE:20260322
DTSTAMP:20260423T124456
CREATED:20260105T202649Z
LAST-MODIFIED:20260105T202649Z
UID:5714-1774051200-1774137599@nccdinfo.com
SUMMARY:IABC Intensive
DESCRIPTION:The IABC Intensive is a focused learning experience through the International Apostolic Bible College (IABC)\, designed primarily for college students. This intensive provides a time of concentrated biblical study\, spiritual growth\, and apostolic teaching\, equipping students to deepen their understanding of the Word and strengthen their calling through structured instruction and fellowship.
URL:https://nccdinfo.com/event/iabc-intensive/
CATEGORIES:NCCD IABC
END:VEVENT
END:VCALENDAR