BEGIN:VCALENDAR
VERSION:2.0
PRODID:-//NCCD - ECPv6.15.20//NONSGML v1.0//EN
CALSCALE:GREGORIAN
METHOD:PUBLISH
X-ORIGINAL-URL:https://nccdinfo.com
X-WR-CALDESC:Events for NCCD
REFRESH-INTERVAL;VALUE=DURATION:PT1H
X-Robots-Tag:noindex
X-PUBLISHED-TTL:PT1H
BEGIN:VTIMEZONE
TZID:Asia/Dubai
BEGIN:STANDARD
TZOFFSETFROM:+0400
TZOFFSETTO:+0400
TZNAME:+04
DTSTART:20250101T000000
END:STANDARD
END:VTIMEZONE
BEGIN:VEVENT
DTSTART;VALUE=DATE:20260314
DTEND;VALUE=DATE:20260315
DTSTAMP:20260423T124255
CREATED:20260105T202108Z
LAST-MODIFIED:20260105T202108Z
UID:5712-1773446400-1773532799@nccdinfo.com
SUMMARY:MOP Worship Experience
DESCRIPTION:The MOP Worship Experience is a powerful gathering where young people come together to lift their voices in praise and worship. This is a time set apart to encounter God’s presence\, unite in faith\, and express wholehearted devotion through worship. Together\, we seek to be refreshed\, renewed\, and drawn closer to God.
URL:https://nccdinfo.com/event/mop-worship-experience/
CATEGORIES:NCCD MOP
END:VEVENT
END:VCALENDAR