BEGIN:VCALENDAR
VERSION:2.0
PRODID:-//NCCD - ECPv6.15.20//NONSGML v1.0//EN
CALSCALE:GREGORIAN
METHOD:PUBLISH
X-ORIGINAL-URL:https://nccdinfo.com
X-WR-CALDESC:Events for NCCD
REFRESH-INTERVAL;VALUE=DURATION:PT1H
X-Robots-Tag:noindex
X-PUBLISHED-TTL:PT1H
BEGIN:VTIMEZONE
TZID:Asia/Dubai
BEGIN:STANDARD
TZOFFSETFROM:+0400
TZOFFSETTO:+0400
TZNAME:+04
DTSTART:20240101T000000
END:STANDARD
END:VTIMEZONE
BEGIN:VEVENT
DTSTART;VALUE=DATE:20250515
DTEND;VALUE=DATE:20250518
DTSTAMP:20260424T122918
CREATED:20250103T050331Z
LAST-MODIFIED:20250422T040911Z
UID:5327-1747267200-1747526399@nccdinfo.com
SUMMARY:NCCD Daughters of the King Ladies Retreat
DESCRIPTION:Resilient Women Retreat 2025 \n📣 Praise the Lord\, Daughters of the King! \nWe are thrilled to invite you to our Resilient Women Retreat 2025\, a powerful and uplifting weekend designed to strengthen\, refresh\, and equip women in their faith journey. This retreat is a time for worship\, fellowship\, and personal renewal as we come together to seek God’s presence and encouragement. \n🌸 DATE: May 15-17\, 2025\n📍 LOCATION: DoubleTree by Hilton Hotel Fresno Convention Center \n✨ What to Expect: \n✅ Spirit-filled worship and dynamic speakers\n✅ Empowering sessions focused on resilience and faith\n✅ Fellowship with like-minded women\n✅ A time of renewal\, restoration\, and encouragement \n💲 REGISTRATION DETAILS: \n•Early Registration: $160 (Deposit of $50 due by March 30th)\n• After March 30th: $180\n👕 Retreat T-Shirt: $20 (Available in all sizes) \n🚨 IMPORTANT: \n•No children of any age can be accommodated at this event.\n•Hotel reservations are separate from registration. Use this LINK. \n📌 REGISTER ONLINE TODAY! \nSecure your spot and get ready for a transformative weekend. \nONLINE RETREAT REGISTRATION
URL:https://nccdinfo.com/event/nccd-daughters-of-the-king-ladies-retreat/
CATEGORIES:Daughters of the King
ATTACH;FMTTYPE=image/png:https://nccdinfo.com/wp-content/uploads/2025/01/Resilient-Women-Retreat-Slide.png
END:VEVENT
END:VCALENDAR