BEGIN:VCALENDAR
VERSION:2.0
PRODID:-//NCCD - ECPv6.15.20//NONSGML v1.0//EN
CALSCALE:GREGORIAN
METHOD:PUBLISH
X-WR-CALNAME:NCCD
X-ORIGINAL-URL:https://nccdinfo.com
X-WR-CALDESC:Events for NCCD
REFRESH-INTERVAL;VALUE=DURATION:PT1H
X-Robots-Tag:noindex
X-PUBLISHED-TTL:PT1H
BEGIN:VTIMEZONE
TZID:Asia/Dubai
BEGIN:STANDARD
TZOFFSETFROM:+0400
TZOFFSETTO:+0400
TZNAME:+04
DTSTART:20240101T000000
END:STANDARD
END:VTIMEZONE
BEGIN:VEVENT
DTSTART;VALUE=DATE:20250415
DTEND;VALUE=DATE:20250418
DTSTAMP:20260424T140906
CREATED:20250103T044921Z
LAST-MODIFIED:20250131T191020Z
UID:5308-1744675200-1744934399@nccdinfo.com
SUMMARY:NCCD Messenger of Peace Youth Camp
DESCRIPTION:
URL:https://nccdinfo.com/event/nccd-messenger-of-peace-youth-camp/
LOCATION:Old Oak Ranch\, 15250 Old Oak Ranch Road\, Sonora\, CA\, 95370\, United States
CATEGORIES:NCCD MOP
END:VEVENT
END:VCALENDAR