BEGIN:VCALENDAR
VERSION:2.0
PRODID:-//NCCD - ECPv6.15.20//NONSGML v1.0//EN
CALSCALE:GREGORIAN
METHOD:PUBLISH
X-WR-CALNAME:NCCD
X-ORIGINAL-URL:https://nccdinfo.com
X-WR-CALDESC:Events for NCCD
REFRESH-INTERVAL;VALUE=DURATION:PT1H
X-Robots-Tag:noindex
X-PUBLISHED-TTL:PT1H
BEGIN:VTIMEZONE
TZID:Asia/Dubai
BEGIN:STANDARD
TZOFFSETFROM:+0400
TZOFFSETTO:+0400
TZNAME:+04
DTSTART:20240101T000000
END:STANDARD
END:VTIMEZONE
BEGIN:VEVENT
DTSTART;VALUE=DATE:20250403
DTEND;VALUE=DATE:20250404
DTSTAMP:20260424T140906
CREATED:20250103T044553Z
LAST-MODIFIED:20250103T045552Z
UID:5306-1743638400-1743724799@nccdinfo.com
SUMMARY:Pastoral Meeting Zoom
DESCRIPTION:
URL:https://nccdinfo.com/event/pastoral-meeting-zoom/
CATEGORIES:District
END:VEVENT
END:VCALENDAR